BEGIN:VCALENDAR
VERSION:2.0
PRODID:-//Newton Cultural Alliance - ECPv6.13.2.1//NONSGML v1.0//EN
CALSCALE:GREGORIAN
METHOD:PUBLISH
X-ORIGINAL-URL:https://newtonculture.org
X-WR-CALDESC:Events for Newton Cultural Alliance
REFRESH-INTERVAL;VALUE=DURATION:PT1H
X-Robots-Tag:noindex
X-PUBLISHED-TTL:PT1H
BEGIN:VTIMEZONE
TZID:America/New_York
BEGIN:DAYLIGHT
TZOFFSETFROM:-0500
TZOFFSETTO:-0400
TZNAME:EDT
DTSTART:20220313T070000
END:DAYLIGHT
BEGIN:STANDARD
TZOFFSETFROM:-0400
TZOFFSETTO:-0500
TZNAME:EST
DTSTART:20221106T060000
END:STANDARD
END:VTIMEZONE
BEGIN:VEVENT
DTSTART;TZID=America/New_York:20220519T193000
DTEND;TZID=America/New_York:20220519T213000
DTSTAMP:20260421T074423
CREATED:20220427T150158Z
LAST-MODIFIED:20220427T151209Z
UID:10020051-1652988600-1652995800@newtonculture.org
SUMMARY:Theatre Ink Proudly presents Mamma Mia!
DESCRIPTION:Mamma Mia!\nMay 19-21\,2022 at 7:30PM\nMay 22 at 2:00 PM\nMUSIC AND LYRICS BY Bjorn UlvaeusBjorn Ulvaeus\nand Benny Andersson\nBOOK BY Catherine Johnson Catherine Johnson \nABBA’s hits tell the hilarious story of a young woman’s search for her birth father. This sunny and funny tale unfolds on a Greek island paradise. On the eve of her wedding\, a daughter’s quest to discover the identity of her father brings three men from her mother’s past back to the island they last visited 20 years ago. The story-telling magic of ABBA’s timeless songs propels this enchanting tale of love\, laughter and friendship\, creating an unforgettable show. A large cast\, non-stop laughs and explosive dance numbers combine to make Mamma Mia! A mother. A daughter. Three possible dads. And a trip down the aisle you’ll never forget!
URL:https://newtonculture.org/event/theatre-ink-proudly-presents-mamma-mia/2022-05-19/
LOCATION:Newton North High School\, 457 Walnut St\, Newton\, MA\, 02460\, United States
ATTACH;FMTTYPE=image/png:https://newtonculture.org/wp-content/uploads/2022/04/mm_title_4c-3.png
END:VEVENT
END:VCALENDAR