BEGIN:VCALENDAR
VERSION:2.0
PRODID:-//Newton Cultural Alliance - ECPv6.13.2.1//NONSGML v1.0//EN
CALSCALE:GREGORIAN
METHOD:PUBLISH
X-WR-CALNAME:Newton Cultural Alliance
X-ORIGINAL-URL:https://newtonculture.org
X-WR-CALDESC:Events for Newton Cultural Alliance
REFRESH-INTERVAL;VALUE=DURATION:PT1H
X-Robots-Tag:noindex
X-PUBLISHED-TTL:PT1H
BEGIN:VTIMEZONE
TZID:America/New_York
BEGIN:DAYLIGHT
TZOFFSETFROM:-0500
TZOFFSETTO:-0400
TZNAME:EDT
DTSTART:20220313T070000
END:DAYLIGHT
BEGIN:STANDARD
TZOFFSETFROM:-0400
TZOFFSETTO:-0500
TZNAME:EST
DTSTART:20221106T060000
END:STANDARD
END:VTIMEZONE
BEGIN:VEVENT
DTSTART;TZID=America/New_York:20220526T000000
DTEND;TZID=America/New_York:20220626T000000
DTSTAMP:20260421T091240
CREATED:20220524T144707Z
LAST-MODIFIED:20220613T130307Z
UID:10020070-1653523200-1656201600@newtonculture.org
SUMMARY:Newton Art Association presents New Member Show
DESCRIPTION:The Nordic Hall will once again host the Newton Art Association‘s New Member Show during the month of June. Contact Kerry for viewing hours! \nThe opening reception will be on Saturday\, June 4th\, 2022  | 2-4:30  Admission is free. Register here to let us know you’re coming. \nAbout the Newton Art Association:\n“The Newton Art Association seeks to encourage the appreciation and expression of fine arts to our membership and the Newton community. We are an organization of over 200 active artists and art enthusiasts\, representing all branches of the visual arts\, from drawing to sculpture. The majority of members live in Newton\, nearby cities\, and elsewhere in New England. The Newton Art Association was founded in 1949 by the late James King Bonnar and a small group of artists who felt that artists needed the support of each other to share ideas\, techniques\, and opportunities to paint together.”
URL:https://newtonculture.org/event/newton-art-association-presents-new-member-show/
LOCATION:Scandinavian Cultural Center\, 206 Waltham St\, Newton\, MA\, 02465\, United States
CATEGORIES:Visual Arts
ATTACH;FMTTYPE=image/jpeg:https://newtonculture.org/wp-content/uploads/2022/05/naa.jpg
ORGANIZER;CN="Newton Art Association":MAILTO:info@newtonartassociation.com
END:VEVENT
BEGIN:VEVENT
DTSTART;TZID=America/New_York:20220526T193000
DTEND;TZID=America/New_York:20220526T193000
DTSTAMP:20260421T091240
CREATED:20220217T144650Z
LAST-MODIFIED:20220217T144650Z
UID:10020023-1653593400-1653593400@newtonculture.org
SUMMARY:Zamir Chorale of Boston presents: A Better World: A concert honoring Larry and Jill Sandberg
DESCRIPTION:Thursday\, May 26\, 2022 • 7:30 pm • Temple Emanuel\, Newton\, MA\nA Better World: A concert honoring Larry and Jill SandbergMusic affords us a vision of a harmonious world even in times of conflict and uncertainty—a world filled with compassion\, logic\, beauty\, and resolution. For our spring concert\, in honor of longtime Zamir members Larry and Jill Sandberg\, we present “A Better World\,” featuring a wide-ranging program of uplifting music\, including Thompson’s The Peaceable Kingdom and the U.S. premiere of Yehezkel Braun’s “Vehayah Be’akharit Ha-yamim” (In Days to Come). Come dream with us! \nPlease note that there is no charge for online tributes (see link below); sponsorship opportunities are available by clicking on the “Be a Sponsor” button below; tickets will go on sale by the end of March.
URL:https://newtonculture.org/event/zamir-chorale-of-boston-presents-a-better-world-a-concert-honoring-larry-and-jill-sandberg/
LOCATION:Temple Emanuel\, 385 Ward Street\, Newton\, MA\, 02459\, United States
CATEGORIES:Music,Performing Arts
ATTACH;FMTTYPE=image/jpeg:https://newtonculture.org/wp-content/uploads/2022/02/A-Better-World-2021-med-1140.jpg
ORGANIZER;CN="Zamir Chorale of Boston":MAILTO:manager@zamir.org
END:VEVENT
BEGIN:VEVENT
DTSTART;TZID=America/New_York:20220526T193000
DTEND;TZID=America/New_York:20220526T203000
DTSTAMP:20260421T091240
CREATED:20220515T141213Z
LAST-MODIFIED:20220524T142553Z
UID:10019296-1653593400-1653597000@newtonculture.org
SUMMARY:New Rep presents New Voices Theatre Festival
DESCRIPTION:New Rep’s first New Voices Theatre Festival will feature three twenty-minute plays directed by Jaime Carrillo\, Inés De La Cruz\, and Naomi Ibasitas. Each two-person cast will bring these stories to life in the intimate Black Box Theater at the Mosesian Center for the Arts. \nPlay summaries: \nAURORA by Ramón Esquivel \nThe play takes place on an Autumn Night on the Aurora Bridge in Seattle in 2010. Kai has come here to end their life\, and Halen tries to stop the attempt. We learn that Halen committed suicide in the same spot two years earlier\, and has reappeared to support Kai in this time of crisis. This play employs magical realism in an ultimately uplifting story about depression\, grief\, metaphysics\, and the transcendent nature of love. \nORGANIC by Jenna Jane \nIn a future where everyone is enhancing their bodies with the latest tech\, 81-year-old Donna Goldman is an anomaly – she’s 100 percent organic. But now\, there’s a problem: She’s dying. And a bionic body part is the only cure. Will cyborg Dr. Flores persuade her to abandon her sense of self to survive? This sci-fi drama explores the relationship between the body and the self. \nBY ANY OTHER NAME by Erin Lerch \nThe play takes place in the age of space travel. In the aftermath of the disaster that destroyed her home\, sole survivor Amaranth must decide who and how she needs to be in order to survive beneath the weight of others’ expectations. \nTickets are $25 for Adults\, and $10 for students and can be purchased at Calendar | New Rep
URL:https://newtonculture.org/event/new-rep-presents/
LOCATION:The Dorothy and Charles Mosesian Center for the Arts\, Mosesian The Dorothy and Charles Mosesian Center for the Arts info@mosesianarts.org 617-923-0100 321 Arsenal Street\, Watertown\, MA\, 02472
CATEGORIES:Festival,Theater
ATTACH;FMTTYPE=image/png:https://newtonculture.org/wp-content/uploads/2022/05/newrep.png
END:VEVENT
END:VCALENDAR