BEGIN:VCALENDAR
VERSION:2.0
PRODID:-//Newton Cultural Alliance - ECPv6.13.2.1//NONSGML v1.0//EN
CALSCALE:GREGORIAN
METHOD:PUBLISH
X-ORIGINAL-URL:https://newtonculture.org
X-WR-CALDESC:Events for Newton Cultural Alliance
REFRESH-INTERVAL;VALUE=DURATION:PT1H
X-Robots-Tag:noindex
X-PUBLISHED-TTL:PT1H
BEGIN:VTIMEZONE
TZID:America/New_York
BEGIN:DAYLIGHT
TZOFFSETFROM:-0500
TZOFFSETTO:-0400
TZNAME:EDT
DTSTART:20220313T070000
END:DAYLIGHT
BEGIN:STANDARD
TZOFFSETFROM:-0400
TZOFFSETTO:-0500
TZNAME:EST
DTSTART:20221106T060000
END:STANDARD
END:VTIMEZONE
BEGIN:VEVENT
DTSTART;TZID=America/New_York:20220526T000000
DTEND;TZID=America/New_York:20220626T000000
DTSTAMP:20260421T161118
CREATED:20220524T144707Z
LAST-MODIFIED:20220613T130307Z
UID:10020070-1653523200-1656201600@newtonculture.org
SUMMARY:Newton Art Association presents New Member Show
DESCRIPTION:The Nordic Hall will once again host the Newton Art Association‘s New Member Show during the month of June. Contact Kerry for viewing hours! \nThe opening reception will be on Saturday\, June 4th\, 2022  | 2-4:30  Admission is free. Register here to let us know you’re coming. \nAbout the Newton Art Association:\n“The Newton Art Association seeks to encourage the appreciation and expression of fine arts to our membership and the Newton community. We are an organization of over 200 active artists and art enthusiasts\, representing all branches of the visual arts\, from drawing to sculpture. The majority of members live in Newton\, nearby cities\, and elsewhere in New England. The Newton Art Association was founded in 1949 by the late James King Bonnar and a small group of artists who felt that artists needed the support of each other to share ideas\, techniques\, and opportunities to paint together.”
URL:https://newtonculture.org/event/newton-art-association-presents-new-member-show/
LOCATION:Scandinavian Cultural Center\, 206 Waltham St\, Newton\, MA\, 02465\, United States
CATEGORIES:Visual Arts
ATTACH;FMTTYPE=image/jpeg:https://newtonculture.org/wp-content/uploads/2022/05/naa.jpg
ORGANIZER;CN="Newton Art Association":MAILTO:info@newtonartassociation.com
END:VEVENT
BEGIN:VEVENT
DTSTART;TZID=America/New_York:20220611T100000
DTEND;TZID=America/New_York:20220611T120000
DTSTAMP:20260421T161118
CREATED:20220608T152349Z
LAST-MODIFIED:20220608T152349Z
UID:10020678-1654941600-1654948800@newtonculture.org
SUMMARY:Historic Newton presents 2022 Annual Plant Swap
DESCRIPTION:Join Historic Newton for this annual event started by Mary Morganti that brings together garden enthusiasts to swap plants and other garden items. If you don’t have plants to trade\, you can still attend. Crafts\, activities\, and a special Storytime about the many plants growing at our site will be offered for all school-age children in attendance. Admission is free. The event is supported in part by the Harmony Foundation. Visit this page for more details about the swap. Register here or simply come that day!
URL:https://newtonculture.org/event/historic-newton-presents-2022-annual-plant-swap/
LOCATION:MA
ATTACH;FMTTYPE=image/jpeg:https://newtonculture.org/wp-content/uploads/2022/06/637871731197870000.jpg
END:VEVENT
BEGIN:VEVENT
DTSTART;TZID=America/New_York:20220611T130000
DTEND;TZID=America/New_York:20220611T170000
DTSTAMP:20260421T161118
CREATED:20220608T152551Z
LAST-MODIFIED:20220608T152551Z
UID:10020679-1654952400-1654966800@newtonculture.org
SUMMARY:The Scandinavian Cultural Center presents A Book Launch Event
DESCRIPTION:BOOK TALK – LAUNCH THING WITH AUTHOR ROWDY GEIRSSON AND FRIENDS\n\nJoin the Scandinavian Cultural Center on June 11th for the launch-thing of Rowdy Geirsson’s new book\, The Scandinavian Aggressors. The event will feature a reading by Geirsson from the book\, book signings by him along with Matt Smith and Corwin Ericson\, hand-made natural Norse products for sale by Eir’s Garden\, and a beer tasting (21+) by local craft brewery\, Navigation Brewing Company. \nRowdy Geirsson is the editor of Norse Mythology for Bostonians and a regular contributor to Metal Sucks and McSweeney’s. His writing has also appeared in the American-Scandinavian Foundation’s Scandinavian Review and the Sons of Norway’s Viking Magazine. His new book\, The Scandinavian Aggressors\, is an offbeat odyssey into the freezing heart of the modern Northlands that features delightful and illuminating episodes about enslaved leprechauns\, beheaded mermaids\, elite warrior sisterhoods\, deranged Swedish fishermen\, craft-beer-brewing zombies\, and perverted trolls. \nMatt Smith is the creator of Barbarian Lord and the illustrator of Hellboy: The Bones of Giants. \nCorwin Ericson is the author of Swell and Checked Out OK. \nEir’s Garden is a local business that makes and sells Norse-inspired soaps\, lotions\, creams\, and other natural products. \nSaturday\, June 11th; 1pm | FREE with registration
URL:https://newtonculture.org/event/the-scandinavian-cultural-center-presents-a-book-launch-event/
LOCATION:Scandinavian Cultural Center\, 206 Waltham St\, Newton\, MA\, 02465\, United States
ATTACH;FMTTYPE=image/jpeg:https://newtonculture.org/wp-content/uploads/2022/06/Rowdy1.jpg
END:VEVENT
BEGIN:VEVENT
DTSTART;TZID=America/New_York:20220611T193000
DTEND;TZID=America/New_York:20220611T210000
DTSTAMP:20260421T161118
CREATED:20220608T153115Z
LAST-MODIFIED:20220608T153124Z
UID:10020682-1654975800-1654981200@newtonculture.org
SUMMARY:Theatre Ink Proudly Presents The 15th Annual Playwrights Festival
DESCRIPTION:Performed Live in The Little Theatre at Newton North High School\nor Live Streamed at home! \nIn-Person Tickets June 9\,10\, 11 at 7:30 PM \nTickets will also be sold at the door if available
URL:https://newtonculture.org/event/theatre-ink-proudly-presents-the-15th-annual-playwrights-festival/2022-06-11/
LOCATION:Newton North High School\, 457 Walnut St\, Newton\, MA\, 02460\, United States
ATTACH;FMTTYPE=image/png:https://newtonculture.org/wp-content/uploads/2022/06/Screenshot-86.png
END:VEVENT
END:VCALENDAR