BEGIN:VCALENDAR
VERSION:2.0
PRODID:-//Newton Cultural Alliance - ECPv6.13.2.1//NONSGML v1.0//EN
CALSCALE:GREGORIAN
METHOD:PUBLISH
X-WR-CALNAME:Newton Cultural Alliance
X-ORIGINAL-URL:https://newtonculture.org
X-WR-CALDESC:Events for Newton Cultural Alliance
REFRESH-INTERVAL;VALUE=DURATION:PT1H
X-Robots-Tag:noindex
X-PUBLISHED-TTL:PT1H
BEGIN:VTIMEZONE
TZID:America/New_York
BEGIN:DAYLIGHT
TZOFFSETFROM:-0500
TZOFFSETTO:-0400
TZNAME:EDT
DTSTART:20220313T070000
END:DAYLIGHT
BEGIN:STANDARD
TZOFFSETFROM:-0400
TZOFFSETTO:-0500
TZNAME:EST
DTSTART:20221106T060000
END:STANDARD
END:VTIMEZONE
BEGIN:VEVENT
DTSTART;TZID=America/New_York:20220526T000000
DTEND;TZID=America/New_York:20220626T000000
DTSTAMP:20260424T055534
CREATED:20220524T144707Z
LAST-MODIFIED:20220613T130307Z
UID:10020070-1653523200-1656201600@newtonculture.org
SUMMARY:Newton Art Association presents New Member Show
DESCRIPTION:The Nordic Hall will once again host the Newton Art Association‘s New Member Show during the month of June. Contact Kerry for viewing hours! \nThe opening reception will be on Saturday\, June 4th\, 2022  | 2-4:30  Admission is free. Register here to let us know you’re coming. \nAbout the Newton Art Association:\n“The Newton Art Association seeks to encourage the appreciation and expression of fine arts to our membership and the Newton community. We are an organization of over 200 active artists and art enthusiasts\, representing all branches of the visual arts\, from drawing to sculpture. The majority of members live in Newton\, nearby cities\, and elsewhere in New England. The Newton Art Association was founded in 1949 by the late James King Bonnar and a small group of artists who felt that artists needed the support of each other to share ideas\, techniques\, and opportunities to paint together.”
URL:https://newtonculture.org/event/newton-art-association-presents-new-member-show/
LOCATION:Scandinavian Cultural Center\, 206 Waltham St\, Newton\, MA\, 02465\, United States
CATEGORIES:Visual Arts
ATTACH;FMTTYPE=image/jpeg:https://newtonculture.org/wp-content/uploads/2022/05/naa.jpg
ORGANIZER;CN="Newton Art Association":MAILTO:info@newtonartassociation.com
END:VEVENT
BEGIN:VEVENT
DTSTART;TZID=America/New_York:20220614T190000
DTEND;TZID=America/New_York:20220614T200000
DTSTAMP:20260424T055534
CREATED:20220512T134216Z
LAST-MODIFIED:20220512T134216Z
UID:10020065-1655233200-1655236800@newtonculture.org
SUMMARY:Newton Free Library presents The Refugee Experience: Stories from Our Neighbors (Zoom)
DESCRIPTION:People facing humanitarian catastrophes in their native countries have sought refuge in the United States throughout history. Join us for a panel discussion with neighbors whose families were forced to leave Austria\, Cambodia\, and Haiti. These individuals will speak about their countries of origin\, their families’ exodus\, and their adjustment to the U.S. This program is co-sponsored by Historic Newton. \nThe panelists will be: \n\nJohn Chrang\nDanielle Georges\nHanni Myers\nClara Silverstein of Historic Newton will moderate\n\nRegistration for this program will end two hours before the start time. The login information will be sent just after registration closes. Please be sure to check your spam folder in case it lands there.
URL:https://newtonculture.org/event/newton-free-library-presents-the-refugee-experience-stories-from-our-neighbors-zoom/
LOCATION:MA
ATTACH;FMTTYPE=image/png:https://newtonculture.org/wp-content/uploads/2022/05/Copy_of_6-14_The_Refugee_Experience.png
ORGANIZER;CN="Newton Free Library":MAILTO:admin@newtonfreelibrary.net
END:VEVENT
END:VCALENDAR