BEGIN:VCALENDAR
VERSION:2.0
PRODID:-//Newton Cultural Alliance - ECPv6.13.2.1//NONSGML v1.0//EN
CALSCALE:GREGORIAN
METHOD:PUBLISH
X-ORIGINAL-URL:https://newtonculture.org
X-WR-CALDESC:Events for Newton Cultural Alliance
REFRESH-INTERVAL;VALUE=DURATION:PT1H
X-Robots-Tag:noindex
X-PUBLISHED-TTL:PT1H
BEGIN:VTIMEZONE
TZID:America/New_York
BEGIN:DAYLIGHT
TZOFFSETFROM:-0500
TZOFFSETTO:-0400
TZNAME:EDT
DTSTART:20220313T070000
END:DAYLIGHT
BEGIN:STANDARD
TZOFFSETFROM:-0400
TZOFFSETTO:-0500
TZNAME:EST
DTSTART:20221106T060000
END:STANDARD
END:VTIMEZONE
BEGIN:VEVENT
DTSTART;TZID=America/New_York:20220708T080000
DTEND;TZID=America/New_York:20220710T170000
DTSTAMP:20260421T105322
CREATED:20220525T142051Z
LAST-MODIFIED:20220525T142051Z
UID:10020071-1657267200-1657472400@newtonculture.org
SUMMARY:Amherst Early Music presents ONLINE Summer Festival!
DESCRIPTION:July 8\, 9\, and 10\, 2022.. save the dates!\nWe’ll warm-up for our in-person Festival (August 7-14\, 14-21\, in Bethlehem\, PA) with a 3-day ONLINE Summer Festival!\nJoin us on July 8\, 9\, and 10 for any mix you like of three class sessions per day\, with an international faculty\, and a lecture by Yvonne Kendall on Spanish influences in 16th-century dance. Classes are $25 each\, and the lecture is free. More info coming soon… save the dates! Registration will open by June 1st. \nONLINE FESTIVAL Faculty\nGiula Genini\nAnnette Bauer\nGwyn Roberts\nNina Stern\nMary Springfels\nDorothy Olsson\nJulie Iwasa\nYvonne Kendall\nKaren Cook\nShira Kammen\nPamela Dellal
URL:https://newtonculture.org/event/amherst-early-music-presents-online-summer-festival/
LOCATION:MA
ATTACH;FMTTYPE=image/jpeg:https://newtonculture.org/wp-content/uploads/2022/05/larsdatter_crop_0.jpg
ORGANIZER;CN="Amherst Early Music":MAILTO:info@amherstearlymusic.org
END:VEVENT
END:VCALENDAR