BEGIN:VCALENDAR
VERSION:2.0
PRODID:-//Newton Cultural Alliance - ECPv6.13.2.1//NONSGML v1.0//EN
CALSCALE:GREGORIAN
METHOD:PUBLISH
X-ORIGINAL-URL:https://newtonculture.org
X-WR-CALDESC:Events for Newton Cultural Alliance
REFRESH-INTERVAL;VALUE=DURATION:PT1H
X-Robots-Tag:noindex
X-PUBLISHED-TTL:PT1H
BEGIN:VTIMEZONE
TZID:America/New_York
BEGIN:DAYLIGHT
TZOFFSETFROM:-0500
TZOFFSETTO:-0400
TZNAME:EDT
DTSTART:20220313T070000
END:DAYLIGHT
BEGIN:STANDARD
TZOFFSETFROM:-0400
TZOFFSETTO:-0500
TZNAME:EST
DTSTART:20221106T060000
END:STANDARD
END:VTIMEZONE
BEGIN:VEVENT
DTSTART;TZID=America/New_York:20220719T190000
DTEND;TZID=America/New_York:20220719T200000
DTSTAMP:20260421T110742
CREATED:20220512T134724Z
LAST-MODIFIED:20220512T134724Z
UID:10020068-1658257200-1658260800@newtonculture.org
SUMMARY:Newton Free Library presents Understanding Improv in Klezmer Music
DESCRIPTION:Nathaniel Seelen of Ezekeils’ Wheels will give a lecture/demonstration about improv in Klezmer music. Details will follow. \nRegistration for this program will end two hours before the start time. The login information will be sent just after registration closes. Please be sure to check your spam folder in case it lands there. \nRegistrations open at 7:00pm Tuesday\, June 21\, 2022
URL:https://newtonculture.org/event/newton-free-library-presents-understanding-improv-in-klezmer-music/
LOCATION:MA
ORGANIZER;CN="Newton Free Library":MAILTO:admin@newtonfreelibrary.net
END:VEVENT
END:VCALENDAR