BEGIN:VCALENDAR
VERSION:2.0
PRODID:-//Newton Cultural Alliance - ECPv6.13.2.1//NONSGML v1.0//EN
CALSCALE:GREGORIAN
METHOD:PUBLISH
X-WR-CALNAME:Newton Cultural Alliance
X-ORIGINAL-URL:https://newtonculture.org
X-WR-CALDESC:Events for Newton Cultural Alliance
REFRESH-INTERVAL;VALUE=DURATION:PT1H
X-Robots-Tag:noindex
X-PUBLISHED-TTL:PT1H
BEGIN:VTIMEZONE
TZID:America/New_York
BEGIN:DAYLIGHT
TZOFFSETFROM:-0500
TZOFFSETTO:-0400
TZNAME:EDT
DTSTART:20220313T070000
END:DAYLIGHT
BEGIN:STANDARD
TZOFFSETFROM:-0400
TZOFFSETTO:-0500
TZNAME:EST
DTSTART:20221106T060000
END:STANDARD
END:VTIMEZONE
BEGIN:VEVENT
DTSTART;TZID=America/New_York:20220722T080000
DTEND;TZID=America/New_York:20220723T170000
DTSTAMP:20260421T110651
CREATED:20220705T151202Z
LAST-MODIFIED:20220706T172551Z
UID:10020689-1658476800-1658595600@newtonculture.org
SUMMARY:The 7th Annual Linda Plaut Festival of the Arts
DESCRIPTION:The 7th Annual Linda Plaut Festival of the Arts\nJuly 22 – 24\, 2022\n20+ Performances – 4 Stages – 3 Days\nThe 7th annual Linda Plaut Newton Festival of the Arts will span many facets of arts and culture including several genres of music from blues to baroque\, classical guitar to R&B\, and opera to jazz. The Festival has served as a catalyst for the cultural life in the city since 2015 and has been a showcase of Newton’s talent and Newton Cultural Council grant recipients for many arts organizations and artists over the years. \nOutdoors at The Hyde Playground\, 90 Lincoln Street\, Newton Highlands\nOutdoors on the Village Green\, 1221 Centre St\, Newton Centre\, MA 02459\nOutdoors at Suzuki School of Newton\,  1615 Beacon Street\, Waban\nInside at The Allen House Center for the Arts\, 35 Webster Street\, West Newton\nFestival Chair and Producer: Christopher Pitts\nPerformance Schedule\n\n\nFRIDAY\, JULY 22\, 2022\n\n\nHyde Playground\, Newton Highlands\n6:30pm  New Philharmonia Pops Concert\n7:30pm  Instrument Petting Zoo\nDusk  Movie – Casablanca\n\n\n\n\n\n\n\n\n\n\n\nSATURDAY\, JULY 23\, 2022\n\n\n\n\n\n\nHyde Playground\, Newton Highlands\n\n2pm  Blue Train Bluegrass Band\n3pm  Olga Lisovskaya\, From Opera to Broadway\n4pm  George Russell Jr. Trio\, Gospel & Jazz\n5pm  Lydia Harrell\, Jazz Singer\n7pm  Debo Ray & Her Allstar Band\, Dance Party!\n \n\n\n\n\n\n\nVillage Green\, Newton Centre\n1pm Circus Comes to Town with Circus Complex\n2pm Plugged In Band\n3pm Newtonville Books StoryTime with author Raul The Third\n4pm Rob Siegel\, Folk Music\n\n\n\n\n\n\nSuzuki School of Newton\, Waban\n2pm  Austin McMahon\, Jazz\n3pm Hankus Netsky\, Yiddish & Jazz\n4pm  Crowes Pasture\, Folk\n \n\n\n\n\n\n\n\n\n\n\nSUNDAY\, JULY 24\, 2022\n\n\n\n\n\n\nHyde Playground\, Newton Highlands\n3pm  Thaddeus Hogarth Collectives\, R&B\, Soul & Funk\n4pmEd Harlow & the Gringo Kings\, Salsa & Latin\n5pm Eli Cash Band\, Rock\n7pm Tema Siegel & Couch\, Pop & Soul\n\n\n\n\n\n\nThe Allen Center for the Arts\, West Newton\n1pm Dance Currents\, “100 years of Modern Dance”\n2pm Andrus Madsen\, “Improvised Fantasias”\n3pm Newton Baroque: Alison Gangler and Andrus Madsen\n4pm Nomadic Theatre Story Slam
URL:https://newtonculture.org/event/the-7th-annual-linda-plaut-festival-of-the-arts-3/
LOCATION:MA
ATTACH;FMTTYPE=image/webp:https://newtonculture.org/wp-content/uploads/2022/07/FOA-Instagram-Post-1-400x400-1.webp
END:VEVENT
BEGIN:VEVENT
DTSTART;TZID=America/New_York:20220722T080000
DTEND;TZID=America/New_York:20220724T170000
DTSTAMP:20260421T110651
CREATED:20220427T151351Z
LAST-MODIFIED:20220427T151351Z
UID:10020056-1658476800-1658682000@newtonculture.org
SUMMARY:The 7th Annual Linda Plaut Festival of the Arts
DESCRIPTION:The 7th Annual Linda Plaut Festival of the Arts will be held July 22 – 24\, 2022\nMultiple Stages – Several Village Locations\nPerformer Proposal Application Now Open!
URL:https://newtonculture.org/event/the-7th-annual-linda-plaut-festival-of-the-arts/
LOCATION:MA
ATTACH;FMTTYPE=image/png:https://newtonculture.org/wp-content/uploads/2021/07/Linda-Plaut-Festival-of-the-Art-2019-01-e1623267658615.png
END:VEVENT
BEGIN:VEVENT
DTSTART;TZID=America/New_York:20220722T183000
DTEND;TZID=America/New_York:20220722T203000
DTSTAMP:20260421T110651
CREATED:20220705T151019Z
LAST-MODIFIED:20220706T172405Z
UID:10020688-1658514600-1658521800@newtonculture.org
SUMMARY:New Philharmonia Pops Concert
DESCRIPTION:The 7th annual Linda Plaut Newton Festival of the Arts will span many facets of arts and culture including several genres of music from blues to baroque\, classical guitar to R&B\, and opera to jazz. The Festival has served as a catalyst for the cultural life in the city since 2015 and has been a showcase of Newton’s talent and Newton Cultural Council grant recipients for many arts organizations and artists over the years.\nPerformance Schedule for July 22\, 2022\nHyde Playground\, Newton Highlands \n\n\n6:30pm  New Philharmonia Pops Concert\n7:30pm  Instrument Petting Zoo\nDusk  Movie – Casablanca
URL:https://newtonculture.org/event/the-7th-annual-linda-plaut-festival-of-the-arts-2/
LOCATION:Hyde Community Center\, 90 Lincoln St\, Newton Highlands\, MA\, 02461\, United States
ATTACH;FMTTYPE=image/webp:https://newtonculture.org/wp-content/uploads/2022/07/FOA-Instagram-Post-1-400x400-1.webp
END:VEVENT
END:VCALENDAR