BEGIN:VCALENDAR
VERSION:2.0
PRODID:-//Newton Cultural Alliance - ECPv6.13.2.1//NONSGML v1.0//EN
CALSCALE:GREGORIAN
METHOD:PUBLISH
X-WR-CALNAME:Newton Cultural Alliance
X-ORIGINAL-URL:https://newtonculture.org
X-WR-CALDESC:Events for Newton Cultural Alliance
REFRESH-INTERVAL;VALUE=DURATION:PT1H
X-Robots-Tag:noindex
X-PUBLISHED-TTL:PT1H
BEGIN:VTIMEZONE
TZID:America/New_York
BEGIN:DAYLIGHT
TZOFFSETFROM:-0500
TZOFFSETTO:-0400
TZNAME:EDT
DTSTART:20220313T070000
END:DAYLIGHT
BEGIN:STANDARD
TZOFFSETFROM:-0400
TZOFFSETTO:-0500
TZNAME:EST
DTSTART:20221106T060000
END:STANDARD
END:VTIMEZONE
BEGIN:VEVENT
DTSTART;TZID=America/New_York:20220911T173000
DTEND;TZID=America/New_York:20220911T190000
DTSTAMP:20260421T080933
CREATED:20220721T185303Z
LAST-MODIFIED:20220721T185303Z
UID:10020691-1662917400-1662922800@newtonculture.org
SUMMARY:Cappella Clausura presents a collaboration with the Shift Orchestra Project
DESCRIPTION:This September: Join us for a collaboration with the Shift Orchestra Project!\n\n\nJoin us for a multimedia musical experience! This September\, immerse yourself in Sarah Kirkland Snider’s “Mass for the Endangered”\, a moving composition for choir and orchestra. Vibrant images pair with breathtaking music to create a celebration of the natural world– and humanity’s place within it. \nSarah Kirkland Snider’s \nMass for the Endangered \nPresented in Collaboration with the Shift Orchestra Project \nSeptember 11th at 5:30 PM \nEmmanuel Church of Music\, Boston
URL:https://newtonculture.org/event/cappella-clausura-presents-a-collaboration-with-the-shift-orchestra-project/
LOCATION:MA
CATEGORIES:Music,Performing Arts
ATTACH;FMTTYPE=image/png:https://newtonculture.org/wp-content/uploads/2022/07/Screenshot-104-e1658429524751.png
ORGANIZER;CN="Cappella Clausura":MAILTO:manager@clausura.org
END:VEVENT
END:VCALENDAR