BEGIN:VCALENDAR
VERSION:2.0
PRODID:-//Newton Cultural Alliance - ECPv6.13.2.1//NONSGML v1.0//EN
CALSCALE:GREGORIAN
METHOD:PUBLISH
X-ORIGINAL-URL:https://newtonculture.org
X-WR-CALDESC:Events for Newton Cultural Alliance
REFRESH-INTERVAL;VALUE=DURATION:PT1H
X-Robots-Tag:noindex
X-PUBLISHED-TTL:PT1H
BEGIN:VTIMEZONE
TZID:America/New_York
BEGIN:DAYLIGHT
TZOFFSETFROM:-0500
TZOFFSETTO:-0400
TZNAME:EDT
DTSTART:20220313T070000
END:DAYLIGHT
BEGIN:STANDARD
TZOFFSETFROM:-0400
TZOFFSETTO:-0500
TZNAME:EST
DTSTART:20221106T060000
END:STANDARD
END:VTIMEZONE
BEGIN:VEVENT
DTSTART;TZID=America/New_York:20220919T150000
DTEND;TZID=America/New_York:20220919T170000
DTSTAMP:20260421T081050
CREATED:20220919T155457Z
LAST-MODIFIED:20220919T155457Z
UID:10020722-1663599600-1663606800@newtonculture.org
SUMMARY:Pro Arte presents Salon 4
DESCRIPTION:Salon 4\nPro Arte’s new concertmaster brings together members of the string section for a Salon of sublime music to conclude the season.
URL:https://newtonculture.org/event/pro-arte-presents-salon-4/
LOCATION:The Allen Center\, 35 Webster St\, WEST NEWTON\, MA\, 02465\, United States
CATEGORIES:Music
ATTACH;FMTTYPE=image/jpeg:https://newtonculture.org/wp-content/uploads/2022/09/Screen-Shot-2021-02-03-at-1.21.13-PM-scaled.jpg
END:VEVENT
END:VCALENDAR