BEGIN:VCALENDAR
VERSION:2.0
PRODID:-//Newton Cultural Alliance - ECPv6.13.2.1//NONSGML v1.0//EN
CALSCALE:GREGORIAN
METHOD:PUBLISH
X-WR-CALNAME:Newton Cultural Alliance
X-ORIGINAL-URL:https://newtonculture.org
X-WR-CALDESC:Events for Newton Cultural Alliance
REFRESH-INTERVAL;VALUE=DURATION:PT1H
X-Robots-Tag:noindex
X-PUBLISHED-TTL:PT1H
BEGIN:VTIMEZONE
TZID:America/New_York
BEGIN:DAYLIGHT
TZOFFSETFROM:-0500
TZOFFSETTO:-0400
TZNAME:EDT
DTSTART:20220313T070000
END:DAYLIGHT
BEGIN:STANDARD
TZOFFSETFROM:-0400
TZOFFSETTO:-0500
TZNAME:EST
DTSTART:20221106T060000
END:STANDARD
END:VTIMEZONE
BEGIN:VEVENT
DTSTART;TZID=America/New_York:20220921T173000
DTEND;TZID=America/New_York:20220921T184500
DTSTAMP:20260421T105312
CREATED:20220907T150706Z
LAST-MODIFIED:20220907T150706Z
UID:10020700-1663781400-1663785900@newtonculture.org
SUMMARY:Amherst Early Music presents Early Notation Classes with Annette Bauer!
DESCRIPTION:Early Notation with Annette Bauer\nPitch: 440\, Open to all instrumentalists and singers \n“Machaut and the Ars Nova – I”\nWednesdays 5:30-6:45pm EST: September 14\, 21\, 28 & October 5\nThe music of Guillaume Machaut (ca. 1300-1377) offers a wonderful opportunity to study the style\, forms\, and musical notation used in the ars nova in France. In particular\, the manuscripts containing Machaut’s compositions are true works of art\, carefully compiled – some possibly under direct supervision of the composer himself – and beautifully illuminated. The first of two sessions on Machaut will focus on secular compositions in one\, two\, and three parts. \n“Machaut and the Ars Nova – II”\nWednesdays 5:30-6:45pm EST: October 19\, 26 & November 2\, 9\nThe music of Guillaume Machaut (ca. 1300-1377) offers a wonderful opportunity to study the style\, forms\, and musical notation used in the ars nova in France. In particular\, the manuscripts containing Machaut’s compositions are true works of art\, carefully compiled – some possibly under direct supervision of the composer himself – and beautifully illuminated. The second of two sessions on Machaut will feature movements from the Messe de Nostre Dame\, which is the first complete polyphonic mass cycle composed in the history of European music\, alongside a selection of his secular compositions. \nThe upcoming online notation sessions in 2022/2023 focus on music of the fourteenth and early fifteenth centuries\, including an exploration of ars nova mensural notation\, an introduction to the notation of the Italian trecento\, and a look at the merging of these two distinct practices and musical styles at the turn of the fifteenth century. Prerequisite is the introductory class to mensural notation\, or equivalent experience. (If you are not sure\, please contact Annette). \nSign up here! \nImage: Douce Dame Jolie Machaut A f.482v
URL:https://newtonculture.org/event/amherst-early-music-presents-early-notation-classes-with-annette-bauer/2022-09-21/
LOCATION:MA
ATTACH;FMTTYPE=image/jpeg:https://newtonculture.org/wp-content/uploads/2022/09/Douce-Dame-Jolie-Machaut-A-f.482v.jpeg
ORGANIZER;CN="Amherst Early Music":MAILTO:info@amherstearlymusic.org
END:VEVENT
BEGIN:VEVENT
DTSTART;TZID=America/New_York:20220921T193000
DTEND;TZID=America/New_York:20220921T210000
DTSTAMP:20260421T105312
CREATED:20220916T132432Z
LAST-MODIFIED:20220916T132432Z
UID:10019368-1663788600-1663794000@newtonculture.org
SUMMARY:A Free Violin and Piano Recital At The Allen Center
DESCRIPTION:Violinist Alyssa Wang and pianist Ruoting Li perform a free recital\, “All the Live-Long Day\,” a duo performance featuring all-American music. \nAlyssa\, a violinist\, and conductor\, is currently a Boston Ballet Assistant Conductor. For more information and to register for your free tickets click here.
URL:https://newtonculture.org/event/a-free-violin-and-piano-recital-at-the-allen-center/
LOCATION:The Allen Center\, 35 Webster St\, WEST NEWTON\, MA\, 02465\, United States
ATTACH;FMTTYPE=image/jpeg:https://newtonculture.org/wp-content/uploads/2022/09/unnamed-6.jpg
END:VEVENT
END:VCALENDAR