BEGIN:VCALENDAR
VERSION:2.0
PRODID:-//Newton Cultural Alliance - ECPv6.13.2.1//NONSGML v1.0//EN
CALSCALE:GREGORIAN
METHOD:PUBLISH
X-WR-CALNAME:Newton Cultural Alliance
X-ORIGINAL-URL:https://newtonculture.org
X-WR-CALDESC:Events for Newton Cultural Alliance
REFRESH-INTERVAL;VALUE=DURATION:PT1H
X-Robots-Tag:noindex
X-PUBLISHED-TTL:PT1H
BEGIN:VTIMEZONE
TZID:America/New_York
BEGIN:DAYLIGHT
TZOFFSETFROM:-0500
TZOFFSETTO:-0400
TZNAME:EDT
DTSTART:20220313T070000
END:DAYLIGHT
BEGIN:STANDARD
TZOFFSETFROM:-0400
TZOFFSETTO:-0500
TZNAME:EST
DTSTART:20221106T060000
END:STANDARD
END:VTIMEZONE
BEGIN:VEVENT
DTSTART;TZID=America/New_York:20220924T160000
DTEND;TZID=America/New_York:20220924T180000
DTSTAMP:20260421T080933
CREATED:20220907T154214Z
LAST-MODIFIED:20220907T154214Z
UID:10020711-1664035200-1664042400@newtonculture.org
SUMMARY:Scandi Cultural Center presents an exhibit with Ann Bausman
DESCRIPTION:EXHIBIT: ANN BAUSMAN\n\nAnn attributes her love of textiles to her mother who grew up in Finland\, a country where beautiful design is greatly revered. She always had a project — an embroidered pillow\, a cross-stitch wall-hanging\, a traditional Rya rug or a patch on Ann’s favorite pants. When her sons were little she focused on paper collage as a creative outlet. In a happy twist\, Ann’s youngest came home with an embroidered piece he’d made in art class\, and subsequently started embellishing a shirt and jeans. Ann’s interest in fabrics was reignited and not long after she’d started stitching\, a friend gave her some upholstery samples. There was no looking back. Ann became obsessed with finding and using “found fabric\,” taking inspiration from layering of colors and patterns. Look close at Ann’s pieces and you may see snippets from an old dishcloth\, a loved Boden skirt\, the now-too-tight Old Navy sundress or Marimekko fabric which she inherited from her mother. Several years ago Ann was inspired to stop buying new clothes in response to the waste and environmental impact of the fashion industry. She took to shopping at thrift stores\, mending pants (thanks Mom!) and reading up on boro stitching which has its roots in Japan. Reuse of even the smallest scraps of fabric and visible mending are characteristics of boro and can be found in my fabric collages and other pieces. Ann often employs a simple running stitch which adds texture and color. The process itself is slow and meditative. Her Mom would be proud! \nOn display September and October 2022 \nOpening reception Saturday\, September 24th | 4-6pm | FREE with registration
URL:https://newtonculture.org/event/scandi-cultural-center-presents-an-exhibit-with-ann-bausman/
LOCATION:Scandinavian Cultural Center\, 206 Waltham St\, Newton\, MA\, 02465\, United States
ATTACH;FMTTYPE=image/jpeg:https://newtonculture.org/wp-content/uploads/2022/09/Ann-Bausman-image-for-website-600x266-1.jpeg
END:VEVENT
END:VCALENDAR