BEGIN:VCALENDAR
VERSION:2.0
PRODID:-//Newton Cultural Alliance - ECPv6.13.2.1//NONSGML v1.0//EN
CALSCALE:GREGORIAN
METHOD:PUBLISH
X-WR-CALNAME:Newton Cultural Alliance
X-ORIGINAL-URL:https://newtonculture.org
X-WR-CALDESC:Events for Newton Cultural Alliance
REFRESH-INTERVAL;VALUE=DURATION:PT1H
X-Robots-Tag:noindex
X-PUBLISHED-TTL:PT1H
BEGIN:VTIMEZONE
TZID:America/New_York
BEGIN:DAYLIGHT
TZOFFSETFROM:-0500
TZOFFSETTO:-0400
TZNAME:EDT
DTSTART:20220313T070000
END:DAYLIGHT
BEGIN:STANDARD
TZOFFSETFROM:-0400
TZOFFSETTO:-0500
TZNAME:EST
DTSTART:20221106T060000
END:STANDARD
END:VTIMEZONE
BEGIN:VEVENT
DTSTART;TZID=America/New_York:20220930T190000
DTEND;TZID=America/New_York:20220930T210000
DTSTAMP:20260421T064516
CREATED:20220815T193130Z
LAST-MODIFIED:20220815T193130Z
UID:10020698-1664564400-1664571600@newtonculture.org
SUMMARY:New Art Center presents Night Out @ New Art – Calligraphy Workshop
DESCRIPTION:Night Out @ New Art – Calligraphy Workshop – AEF22802\n\nSeptember 30 @ 7:00 pm – 9:00 pm\n|$55.00\n\n\n\n\nDates: 9/30\nDetails: Friday\, 1 Session\nTimes: 7:00 PM – 9:00 PM \nThis two-hour workshop introduces expressive marker lettering. Begin with some basic letter strokes and then construct and practice the basic alphabet. Then the fun begins\, with letter variations and writing words. This is just a jumping-off point to learning lettering with brush-style markers. These letters are useful for anyone who likes to create cards or does art journaling. \nHandouts provided will include a road map to this study\, with letter strokes\, letters with directional arrows\, practice space\, and then variations. There will also be an assortment of different brands of brush markers for students to try and information on where to purchase the various items. \nNights Out At New Art are fun\, informal\, and open to people of all artistic abilities. New Art provides the materials and tickets for two glasses of wine. Open to students ages 21+.
URL:https://newtonculture.org/event/new-art-center-presents-night-out-new-art-calligraphy-workshop/
LOCATION:New Art Center\, 61 Washington Park\, Newton\, MA\, 02460\, United States
END:VEVENT
BEGIN:VEVENT
DTSTART;TZID=America/New_York:20220930T193000
DTEND;TZID=America/New_York:20220930T210000
DTSTAMP:20260421T064516
CREATED:20220907T160705Z
LAST-MODIFIED:20220907T160705Z
UID:10020713-1664566200-1664571600@newtonculture.org
SUMMARY:NewRep Theatre presents RootsUprising “Reconsidering”
DESCRIPTION:SEPTEMBER 30- OCTOBER 1\nTHE BLACK BOX THEATER AT THE MOSESIAN CENTER FOR THE ARTS\n90-minutes including a 30-minute talk-back\n\nReconsidering\, presented in partnership with RootsUprising and Theatre for the People\, is an embodied discussion of the intersectional experience of women of color through both their spatial and temporal circumstances. The evening of sharing includes six dancing texts from RootsUprising’s repertoire\, including the premier of three new works\, Entangled Gaze\, So Noted and Rooted We Are. RootsUprising’s Artistic Director Nailah Randall-Bellinger describes her work as “text in Motion”. She says: “Reconsidering is the process of dismantling fed beliefs\, truths and distorted images of who we really are as women of color in an oppressive social construct.”
URL:https://newtonculture.org/event/newrep-theatre-presents-rootsuprising-reconsidering/2022-09-30/
LOCATION:The Dorothy and Charles Mosesian Center for the Arts\, Mosesian The Dorothy and Charles Mosesian Center for the Arts info@mosesianarts.org 617-923-0100 321 Arsenal Street\, Watertown\, MA\, 02472
ATTACH;FMTTYPE=image/png:https://newtonculture.org/wp-content/uploads/2022/09/Screenshot-114-e1662566807858.png
END:VEVENT
BEGIN:VEVENT
DTSTART;TZID=America/New_York:20220930T193000
DTEND;TZID=America/New_York:20220930T213000
DTSTAMP:20260421T064516
CREATED:20220916T132705Z
LAST-MODIFIED:20220916T132705Z
UID:10019370-1664566200-1664573400@newtonculture.org
SUMMARY:Alberto Profeta At The Allen Center
DESCRIPTION:Internationally acclaimed tenor\, Alberto Profeta appears at The Allen Center in a program of famous arias and Italian songs with well known to Newton audiences\, pianist Maxim Lubarsky\, Tino D’Agostino\, bass\, and Sergio Bellotti\, drums. \nCheck them out on Youtube. And purchase your tickets here!
URL:https://newtonculture.org/event/alberto-profeta-at-the-allen-center/
LOCATION:The Allen Center\, 35 Webster St\, WEST NEWTON\, MA\, 02465\, United States
ATTACH;FMTTYPE=image/jpeg:https://newtonculture.org/wp-content/uploads/2022/09/alberto.jpg
END:VEVENT
END:VCALENDAR