BEGIN:VCALENDAR
VERSION:2.0
PRODID:-//Newton Cultural Alliance - ECPv6.13.2.1//NONSGML v1.0//EN
CALSCALE:GREGORIAN
METHOD:PUBLISH
X-WR-CALNAME:Newton Cultural Alliance
X-ORIGINAL-URL:https://newtonculture.org
X-WR-CALDESC:Events for Newton Cultural Alliance
REFRESH-INTERVAL;VALUE=DURATION:PT1H
X-Robots-Tag:noindex
X-PUBLISHED-TTL:PT1H
BEGIN:VTIMEZONE
TZID:America/New_York
BEGIN:DAYLIGHT
TZOFFSETFROM:-0500
TZOFFSETTO:-0400
TZNAME:EDT
DTSTART:20220313T070000
END:DAYLIGHT
BEGIN:STANDARD
TZOFFSETFROM:-0400
TZOFFSETTO:-0500
TZNAME:EST
DTSTART:20221106T060000
END:STANDARD
END:VTIMEZONE
BEGIN:VEVENT
DTSTART;TZID=America/New_York:20221001T150000
DTEND;TZID=America/New_York:20221001T163000
DTSTAMP:20260421T093205
CREATED:20220907T160705Z
LAST-MODIFIED:20220907T160705Z
UID:10020714-1664636400-1664641800@newtonculture.org
SUMMARY:NewRep Theatre presents RootsUprising “Reconsidering”
DESCRIPTION:SEPTEMBER 30- OCTOBER 1\nTHE BLACK BOX THEATER AT THE MOSESIAN CENTER FOR THE ARTS\n90-minutes including a 30-minute talk-back\n\nReconsidering\, presented in partnership with RootsUprising and Theatre for the People\, is an embodied discussion of the intersectional experience of women of color through both their spatial and temporal circumstances. The evening of sharing includes six dancing texts from RootsUprising’s repertoire\, including the premier of three new works\, Entangled Gaze\, So Noted and Rooted We Are. RootsUprising’s Artistic Director Nailah Randall-Bellinger describes her work as “text in Motion”. She says: “Reconsidering is the process of dismantling fed beliefs\, truths and distorted images of who we really are as women of color in an oppressive social construct.”
URL:https://newtonculture.org/event/newrep-theatre-presents-rootsuprising-reconsidering/2022-10-01/
LOCATION:The Dorothy and Charles Mosesian Center for the Arts\, Mosesian The Dorothy and Charles Mosesian Center for the Arts info@mosesianarts.org 617-923-0100 321 Arsenal Street\, Watertown\, MA\, 02472
ATTACH;FMTTYPE=image/png:https://newtonculture.org/wp-content/uploads/2022/09/Screenshot-114-e1662566807858.png
END:VEVENT
BEGIN:VEVENT
DTSTART;TZID=America/New_York:20221001T190000
DTEND;TZID=America/New_York:20221001T190000
DTSTAMP:20260421T093205
CREATED:20220907T173848Z
LAST-MODIFIED:20220907T173905Z
UID:10020716-1664650800-1664650800@newtonculture.org
SUMMARY:NewRep Theatre presents Saturday Stories series
DESCRIPTION:The GroovaLottos’ \nStraight Outta Mama’s Hamper \nWith 8 Grammy nominations between them\, Straight Outta Mama’s Hamper recreates the best of a summer Saturday in the life of a 1970’s Black American family. \nThe GroovaLottos take us from morning cartoons to Soul Train afternoons and family cookouts that go till dawn. \nThis show will take place in the Main Stage Theater at the Mosesian Center for the Arts in Watertown. \nTickets are $35\, or purchase a ticket to both this and the Sunday\, October 2nd show for $50. Save $5 on each ticket. Discount automatically applied at check out. \nLearn more about The GroovaLottos 
URL:https://newtonculture.org/event/newrep-theatre-presents-saturday-stories-series/
LOCATION:The Dorothy and Charles Mosesian Center for the Arts\, Mosesian The Dorothy and Charles Mosesian Center for the Arts info@mosesianarts.org 617-923-0100 321 Arsenal Street\, Watertown\, MA\, 02472
ATTACH;FMTTYPE=image/png:https://newtonculture.org/wp-content/uploads/2022/09/unnamed.png
END:VEVENT
BEGIN:VEVENT
DTSTART;TZID=America/New_York:20221001T200000
DTEND;TZID=America/New_York:20221001T220000
DTSTAMP:20260421T093205
CREATED:20220919T135024Z
LAST-MODIFIED:20220919T135359Z
UID:10020718-1664654400-1664661600@newtonculture.org
SUMMARY:Pro Arte presents Serenades and Illuminations
DESCRIPTION:The first concert of Season 45 featuring the music of Strauss\, Britten\, and Brahms. \nDavid Angus\, conductor \nOmar Najmi\, tenor \nSTRAUSS Wind Serenade \nBRITTEN Les Illuminations \nBRAHMS Serenade No. 1 in A Major
URL:https://newtonculture.org/event/pro-arte-presents/
LOCATION:Second Church in Newton\, 60 Highland St.\, West Newton\, MA\, 02465\, United States
ATTACH;FMTTYPE=image/jpeg:https://newtonculture.org/wp-content/uploads/2022/09/IMG_5864.jpg
END:VEVENT
END:VCALENDAR