BEGIN:VCALENDAR
VERSION:2.0
PRODID:-//Newton Cultural Alliance - ECPv6.13.2.1//NONSGML v1.0//EN
CALSCALE:GREGORIAN
METHOD:PUBLISH
X-ORIGINAL-URL:https://newtonculture.org
X-WR-CALDESC:Events for Newton Cultural Alliance
REFRESH-INTERVAL;VALUE=DURATION:PT1H
X-Robots-Tag:noindex
X-PUBLISHED-TTL:PT1H
BEGIN:VTIMEZONE
TZID:America/New_York
BEGIN:DAYLIGHT
TZOFFSETFROM:-0500
TZOFFSETTO:-0400
TZNAME:EDT
DTSTART:20220313T070000
END:DAYLIGHT
BEGIN:STANDARD
TZOFFSETFROM:-0400
TZOFFSETTO:-0500
TZNAME:EST
DTSTART:20221106T060000
END:STANDARD
END:VTIMEZONE
BEGIN:VEVENT
DTSTART;TZID=America/New_York:20221003T080000
DTEND;TZID=America/New_York:20221003T170000
DTSTAMP:20260421T110740
CREATED:20221003T154859Z
LAST-MODIFIED:20221003T154859Z
UID:10020734-1664784000-1664816400@newtonculture.org
SUMMARY:New Art Center presents Festival of Lights
DESCRIPTION:Join New Art Center as we light up the winter with celebrations of Hanukkah\, Diwali\, Kwanzaa\, and La Posadas! Art educators will lead participants through different make-and-take activities that highlight the themes\, rituals\, and traditions of different holidays. This event is FREE and open to all ages!
URL:https://newtonculture.org/event/new-art-center-presents-festival-of-lights/
LOCATION:New Art Center\, 61 Washington Park\, Newton\, MA\, 02460\, United States
ATTACH;FMTTYPE=image/jpeg:https://newtonculture.org/wp-content/uploads/2022/10/image_6483441-1-1-1536x1078-1.jpg
ORGANIZER;CN="New Art Center":MAILTO:info@newartcenter.org
END:VEVENT
END:VCALENDAR