BEGIN:VCALENDAR
VERSION:2.0
PRODID:-//Newton Cultural Alliance - ECPv6.13.2.1//NONSGML v1.0//EN
CALSCALE:GREGORIAN
METHOD:PUBLISH
X-ORIGINAL-URL:https://newtonculture.org
X-WR-CALDESC:Events for Newton Cultural Alliance
REFRESH-INTERVAL;VALUE=DURATION:PT1H
X-Robots-Tag:noindex
X-PUBLISHED-TTL:PT1H
BEGIN:VTIMEZONE
TZID:America/New_York
BEGIN:DAYLIGHT
TZOFFSETFROM:-0500
TZOFFSETTO:-0400
TZNAME:EDT
DTSTART:20220313T070000
END:DAYLIGHT
BEGIN:STANDARD
TZOFFSETFROM:-0400
TZOFFSETTO:-0500
TZNAME:EST
DTSTART:20221106T060000
END:STANDARD
END:VTIMEZONE
BEGIN:VEVENT
DTSTART;TZID=America/New_York:20221015T150000
DTEND;TZID=America/New_York:20221015T163000
DTSTAMP:20260421T080601
CREATED:20221003T145702Z
LAST-MODIFIED:20221003T145702Z
UID:10020725-1665846000-1665851400@newtonculture.org
SUMMARY:Amherst Early Music Classes
DESCRIPTION:Weekend Classes: October 15 & 16\nPlaying Music from the iPad with Tish Berlin\n3:00 – 4:30 pm\, 15 October 2022\nLetitia Berlin recorder \nExploring the GAMUT with Tabea Schwartz\n1:00 – 2:30 pm\, 16 October 2022 \nVincenzo Ruffo’s Capricci in musica with Rainer Beckmann\n3:00 – 4:30 pm\, 16 October 2022\nRainer Beckmann ** recorder \nWeekend Classes October 29 & 30\nTime for trio sonatas! with Na’ama Lion and Sarah Freiberg\n3:00 – 4:30 pm\, 29 October 2022 \nMusic for Halloween and All Souls Day with Shira Kammen\n1:00 – 2:30 pm\, 30 October 2022\nShira Kammen vielle \nMONOPHONY – chants\, songs\, and dances with Daphna Mor\n3:00 – 4:30 pm\, 30 October 2022\nDaphna Mor recorder \nOnline Class\n1:00 – 2:30 pm\, 31 December 2023
URL:https://newtonculture.org/event/amherst-early-music-classes-3/2022-10-15/
LOCATION:MA
ATTACH;FMTTYPE=image/jpeg:https://newtonculture.org/wp-content/uploads/2022/10/AEM_ONLINE_POSTER_OCTOBER_2022.jpg
ORGANIZER;CN="Amherst Early Music":MAILTO:info@amherstearlymusic.org
END:VEVENT
BEGIN:VEVENT
DTSTART;TZID=America/New_York:20221015T150000
DTEND;TZID=America/New_York:20221015T170000
DTSTAMP:20260421T080601
CREATED:20220919T130130Z
LAST-MODIFIED:20220919T130130Z
UID:10019375-1665846000-1665853200@newtonculture.org
SUMMARY:Highland Glee Club
DESCRIPTION:Saturday\, October 15\, 2022\, 3 PM: War Memorial Auditorium\, Newton\n\n Part-songs and drinking songs by Mendelssohn\, Poulenc\, and Elgar\, along with a selection of Scottish folk songs
URL:https://newtonculture.org/event/highland-glee-club/
LOCATION:Newton City Hall Auditorium\, 1000 Commonwealth Ave\, Newton\, MA\, 02459\, United States
END:VEVENT
BEGIN:VEVENT
DTSTART;TZID=America/New_York:20221015T150000
DTEND;TZID=America/New_York:20221015T170000
DTSTAMP:20260421T080601
CREATED:20221010T143753Z
LAST-MODIFIED:20221010T143753Z
UID:10020739-1665846000-1665853200@newtonculture.org
SUMMARY:Songs of the Highlands
DESCRIPTION:The Highland Glee Club\, established in 1908\, will be singing classical part songs\, drinking songs\, and a few kilty pleasures. \nSaturday\, October 15\, 3:00 pm at the Newton War Memorial Auditorium\, 1000 Commonwealth Ave.\, Newton\, MA\, \n$20 adults; under 18 free.
URL:https://newtonculture.org/event/songs-of-the-highlands/
LOCATION:Newton City Hall Auditorium\, 1000 Commonwealth Ave\, Newton\, MA\, 02459\, United States
CATEGORIES:Music
ATTACH;FMTTYPE=image/png:https://newtonculture.org/wp-content/uploads/2022/09/Songs-o-the-Highlands-Poster-small-e1665579692852.png
END:VEVENT
END:VCALENDAR