BEGIN:VCALENDAR
VERSION:2.0
PRODID:-//Newton Cultural Alliance - ECPv6.13.2.1//NONSGML v1.0//EN
CALSCALE:GREGORIAN
METHOD:PUBLISH
X-ORIGINAL-URL:https://newtonculture.org
X-WR-CALDESC:Events for Newton Cultural Alliance
REFRESH-INTERVAL;VALUE=DURATION:PT1H
X-Robots-Tag:noindex
X-PUBLISHED-TTL:PT1H
BEGIN:VTIMEZONE
TZID:America/New_York
BEGIN:DAYLIGHT
TZOFFSETFROM:-0500
TZOFFSETTO:-0400
TZNAME:EDT
DTSTART:20220313T070000
END:DAYLIGHT
BEGIN:STANDARD
TZOFFSETFROM:-0400
TZOFFSETTO:-0500
TZNAME:EST
DTSTART:20221106T060000
END:STANDARD
END:VTIMEZONE
BEGIN:VEVENT
DTSTART;TZID=America/New_York:20221016T130000
DTEND;TZID=America/New_York:20221016T150000
DTSTAMP:20260421T080604
CREATED:20220919T134839Z
LAST-MODIFIED:20220919T134839Z
UID:10020717-1665925200-1665932400@newtonculture.org
SUMMARY:SCC presents Gunnar Widforss
DESCRIPTION:GUNNAR WIDFORSS–PAINTER OF THE NATIONAL PARKS\n\nThrough the Roaring Twenties and the first half of the Great Depression\, the Swedish-born landscape painter Gunnar Widforss (1879-1934) focused his discerning eye and passionate energy on the national parks of the American West. Because of Widforss’ untimely death at only age 55\, and\nbecause the rise of modernism in the early-twentieth century consigned many highly skilled realistic painters to obscurity\, Widforss’ legacy is largely unknown today. The amiable Swede led a bohemian life in search of beautiful landscapes to paint. Widforss dressed formally as he worked and always attracted wonder-struck onlookers when he painted in Yosemite Valley\, on the rim of Grand Canyon and the other locations he favored in the national parks. Park Service friends such as Ansel Hall and Stephen Mather as well as tourists marveled at the accuracy of his painting and the way in which he was able to capture the dramatic landscapes. Widforss never resorted to sentimental or romanticized depictions\, so prevalent in depictions of western subjects. He very well may be viewed as one of the greatest artists to paint the West and his obscurity is a paradox. The story of Widforss’ life and work is one of great triumph in realistic painting\, and the tragedy of his anonymity and death is a compelling story of a Swedish expatriate who fell in love with the landscapes of the American West. \nToday\, Widforss’ work is known only to a small number of dedicated collectors\, the descendants of his family and friends\, and those who discover his gem-like paintings when they visit the national parks he depicted. \nCurator and author Alan Petersen has published a catalogue raisonné of Widforss’ works and is nearing completion of a monograph on the artist’s fascinating life and work. \nSunday\, October 16th | 1pm | $8 suggested donation | register here \nABOUT ALAN: Alan recently published a catalogue raisonné of works by Swedish-American artist Gunnar Widforss that currently lists nearly 1\,300 paintings. He is continuing work on a monograph on Widforss’ fascinating life and art. Alan has also published a number of articles on the artist and in 2018 co-curated an exhibition of the artist’s work in Ljungby\, Sweden. \nAlan recently retired from a faculty position at Coconino Community College in Flagstaff where he taught art history\, drawing\, painting\, and courses pertaining to the Colorado Plateau for thirty years. His own paintings have their source in the light\, space and landforms of the Colorado Plateau\, and explore the formal relationships between color and pictorial space. He is also engaged in a major project that involves mapping and drawing the geological sources of uranium within Grand Canyon. \n\n\n\n\n\n 
URL:https://newtonculture.org/event/scc-presents-gunnar-widforss/
LOCATION:MA
CATEGORIES:Visual Arts
ATTACH;FMTTYPE=image/jpeg:https://newtonculture.org/wp-content/uploads/2022/09/Widforss-Gunnar-Yosemite-From-Inspiration-Point-1923-2048-600x266-1.jpg
END:VEVENT
BEGIN:VEVENT
DTSTART;TZID=America/New_York:20221016T130000
DTEND;TZID=America/New_York:20221016T163000
DTSTAMP:20260421T080604
CREATED:20221003T145702Z
LAST-MODIFIED:20221003T145702Z
UID:10020726-1665925200-1665937800@newtonculture.org
SUMMARY:Amherst Early Music Classes
DESCRIPTION:Weekend Classes: October 15 & 16\nPlaying Music from the iPad with Tish Berlin\n3:00 – 4:30 pm\, 15 October 2022\nLetitia Berlin recorder \nExploring the GAMUT with Tabea Schwartz\n1:00 – 2:30 pm\, 16 October 2022 \nVincenzo Ruffo’s Capricci in musica with Rainer Beckmann\n3:00 – 4:30 pm\, 16 October 2022\nRainer Beckmann ** recorder \nWeekend Classes October 29 & 30\nTime for trio sonatas! with Na’ama Lion and Sarah Freiberg\n3:00 – 4:30 pm\, 29 October 2022 \nMusic for Halloween and All Souls Day with Shira Kammen\n1:00 – 2:30 pm\, 30 October 2022\nShira Kammen vielle \nMONOPHONY – chants\, songs\, and dances with Daphna Mor\n3:00 – 4:30 pm\, 30 October 2022\nDaphna Mor recorder \nOnline Class\n1:00 – 2:30 pm\, 31 December 2023
URL:https://newtonculture.org/event/amherst-early-music-classes-3/2022-10-16/
LOCATION:MA
ATTACH;FMTTYPE=image/jpeg:https://newtonculture.org/wp-content/uploads/2022/10/AEM_ONLINE_POSTER_OCTOBER_2022.jpg
ORGANIZER;CN="Amherst Early Music":MAILTO:info@amherstearlymusic.org
END:VEVENT
BEGIN:VEVENT
DTSTART;TZID=America/New_York:20221016T190000
DTEND;TZID=America/New_York:20221016T210000
DTSTAMP:20260421T080604
CREATED:20221010T143623Z
LAST-MODIFIED:20221010T143623Z
UID:10020737-1665946800-1665954000@newtonculture.org
SUMMARY:Pro Arte presents a Benefit for Ukraine
DESCRIPTION:Pro Arte musicians come together to give a concert in benefit of those suffering in Ukraine. Multiple different groups of performers donate their services to perform a moving evening of music. This event is presented for a suggested donation of $50. All proceeds will be donated by Pro Arte to the Relief Fund for Ukrainian Musicians. Through this relief fund\, the Lisa Batiashvili Foundation will administer grants directly to Ukrainian musicians\, many of whom are affiliated with Ukraine’s top orchestras\, ensembles and conservatories. The program will reach musicians who have escaped Ukraine’s borders as well as those who remain in their war-ravaged homeland. Beneficiaries are identified through musician networks and personnel info from musical organizations in Ukraine. Initiated by Ukrainian-American violist Alexander Vavilov in collaboration with the King Baudouin Foundation United States (KBFUS)\, the Lisa Batiashvili Foundation is collecting contributions in the U.S. to support humanitarian assistance for Ukrainian musicians and their families. For more information about the Lisa Batiashvili Foundation\, visit https://www.lisabatiashvili-foundation.org/
URL:https://newtonculture.org/event/pro-arte-presents-a-benefit-for-ukraine/
LOCATION:Second Church in Newton\, 60 Highland St.\, West Newton\, MA\, 02465\, United States
CATEGORIES:Music
ATTACH;FMTTYPE=image/jpeg:https://newtonculture.org/wp-content/uploads/2022/10/Ukraine-Benefit-Poster-QR-code_v1.jpg
END:VEVENT
END:VCALENDAR