BEGIN:VCALENDAR
VERSION:2.0
PRODID:-//Newton Cultural Alliance - ECPv6.13.2.1//NONSGML v1.0//EN
CALSCALE:GREGORIAN
METHOD:PUBLISH
X-ORIGINAL-URL:https://newtonculture.org
X-WR-CALDESC:Events for Newton Cultural Alliance
REFRESH-INTERVAL;VALUE=DURATION:PT1H
X-Robots-Tag:noindex
X-PUBLISHED-TTL:PT1H
BEGIN:VTIMEZONE
TZID:America/New_York
BEGIN:DAYLIGHT
TZOFFSETFROM:-0500
TZOFFSETTO:-0400
TZNAME:EDT
DTSTART:20220313T070000
END:DAYLIGHT
BEGIN:STANDARD
TZOFFSETFROM:-0400
TZOFFSETTO:-0500
TZNAME:EST
DTSTART:20221106T060000
END:STANDARD
END:VTIMEZONE
BEGIN:VEVENT
DTSTART;TZID=America/New_York:20221019T173000
DTEND;TZID=America/New_York:20221019T184500
DTSTAMP:20260421T080604
CREATED:20220907T150706Z
LAST-MODIFIED:20220907T150706Z
UID:10020703-1666200600-1666205100@newtonculture.org
SUMMARY:Amherst Early Music presents Early Notation Classes with Annette Bauer!
DESCRIPTION:Early Notation with Annette Bauer\nPitch: 440\, Open to all instrumentalists and singers \n“Machaut and the Ars Nova – I”\nWednesdays 5:30-6:45pm EST: September 14\, 21\, 28 & October 5\nThe music of Guillaume Machaut (ca. 1300-1377) offers a wonderful opportunity to study the style\, forms\, and musical notation used in the ars nova in France. In particular\, the manuscripts containing Machaut’s compositions are true works of art\, carefully compiled – some possibly under direct supervision of the composer himself – and beautifully illuminated. The first of two sessions on Machaut will focus on secular compositions in one\, two\, and three parts. \n“Machaut and the Ars Nova – II”\nWednesdays 5:30-6:45pm EST: October 19\, 26 & November 2\, 9\nThe music of Guillaume Machaut (ca. 1300-1377) offers a wonderful opportunity to study the style\, forms\, and musical notation used in the ars nova in France. In particular\, the manuscripts containing Machaut’s compositions are true works of art\, carefully compiled – some possibly under direct supervision of the composer himself – and beautifully illuminated. The second of two sessions on Machaut will feature movements from the Messe de Nostre Dame\, which is the first complete polyphonic mass cycle composed in the history of European music\, alongside a selection of his secular compositions. \nThe upcoming online notation sessions in 2022/2023 focus on music of the fourteenth and early fifteenth centuries\, including an exploration of ars nova mensural notation\, an introduction to the notation of the Italian trecento\, and a look at the merging of these two distinct practices and musical styles at the turn of the fifteenth century. Prerequisite is the introductory class to mensural notation\, or equivalent experience. (If you are not sure\, please contact Annette). \nSign up here! \nImage: Douce Dame Jolie Machaut A f.482v
URL:https://newtonculture.org/event/amherst-early-music-presents-early-notation-classes-with-annette-bauer/2022-10-19/
LOCATION:MA
ATTACH;FMTTYPE=image/jpeg:https://newtonculture.org/wp-content/uploads/2022/09/Douce-Dame-Jolie-Machaut-A-f.482v.jpeg
ORGANIZER;CN="Amherst Early Music":MAILTO:info@amherstearlymusic.org
END:VEVENT
BEGIN:VEVENT
DTSTART;TZID=America/New_York:20221019T173000
DTEND;TZID=America/New_York:20221019T184500
DTSTAMP:20260421T080604
CREATED:20221003T145838Z
LAST-MODIFIED:20221003T145838Z
UID:10020730-1666200600-1666205100@newtonculture.org
SUMMARY:Amherst Early Music Classes
DESCRIPTION:Four Wednesday Sessions starting October 19\nOctober 19\, 26 & November 2\, 9.\n5:30-6:45 p.m. EST\nOpen to all instrumentalists and singers. Pitch: A=440 \nEarly Notation with Annette Bauer\nMachaut & the Ars Nova – II\n5:30 – 6:45 pm\, 19 October 2022\nAnnette Bauer recorder early notation\nONLINE NOTATION SESSION 14
URL:https://newtonculture.org/event/amherst-early-music-classes-4/2022-10-19/
LOCATION:MA
ATTACH;FMTTYPE=image/jpeg:https://newtonculture.org/wp-content/uploads/2022/10/AEM_ONLINE_POSTER_OCTOBER_2022.jpg
ORGANIZER;CN="Amherst Early Music":MAILTO:info@amherstearlymusic.org
END:VEVENT
END:VCALENDAR