BEGIN:VCALENDAR
VERSION:2.0
PRODID:-//Newton Cultural Alliance - ECPv6.13.2.1//NONSGML v1.0//EN
CALSCALE:GREGORIAN
METHOD:PUBLISH
X-WR-CALNAME:Newton Cultural Alliance
X-ORIGINAL-URL:https://newtonculture.org
X-WR-CALDESC:Events for Newton Cultural Alliance
REFRESH-INTERVAL;VALUE=DURATION:PT1H
X-Robots-Tag:noindex
X-PUBLISHED-TTL:PT1H
BEGIN:VTIMEZONE
TZID:America/New_York
BEGIN:DAYLIGHT
TZOFFSETFROM:-0500
TZOFFSETTO:-0400
TZNAME:EDT
DTSTART:20220313T070000
END:DAYLIGHT
BEGIN:STANDARD
TZOFFSETFROM:-0400
TZOFFSETTO:-0500
TZNAME:EST
DTSTART:20221106T060000
END:STANDARD
END:VTIMEZONE
BEGIN:VEVENT
DTSTART;TZID=America/New_York:20221022T140000
DTEND;TZID=America/New_York:20221022T160000
DTSTAMP:20260421T064517
CREATED:20221019T155602Z
LAST-MODIFIED:20221019T155602Z
UID:10020743-1666447200-1666454400@newtonculture.org
SUMMARY:WYMCA presents Fall Festival
DESCRIPTION:*On Saturday\, October 22nd at 2:00 pm the West Suburban YMCA celebrates fall at the annual free family festival. Wear your Halloween costume and join in for a jam- packed afternoon of autumn-themed activities\, games\, crafts\, and entertainment. Check out this free family fun fest while you repeat that 5 times fast.
URL:https://newtonculture.org/event/wymca-presents-fall-festival/
LOCATION:WSYMCA\, 276 Church St\, Newton\, MA\, 02458\, United States
ATTACH;FMTTYPE=image/png:https://newtonculture.org/wp-content/uploads/2022/10/unnamed-e1666194715169.png
END:VEVENT
BEGIN:VEVENT
DTSTART;TZID=America/New_York:20221022T193000
DTEND;TZID=America/New_York:20221022T210000
DTSTAMP:20260421T064517
CREATED:20221019T155436Z
LAST-MODIFIED:20221019T155436Z
UID:10020742-1666467000-1666472400@newtonculture.org
SUMMARY:Newton Baroque presents Abandoned and Alone: A Fanny von Arnstein Viennese Salon 1790
DESCRIPTION:Attend an evening in honor of the remarkable Jewish woman\, Fanny von Arnstein\, who hosted brilliant salons in Vienna starting in the 1780s. This program features works that were likely performed at her salon\, including Josef Haydn’s Arianna a Naxos\, Nicola Porpora’s Abandonata e Sola\, and Lieder by Wolfgang Amadeus Mozart. Get your tickets for the Newton Baroque debut of Audrey Luna’s performance with Andrus Madsen on fortepiano.
URL:https://newtonculture.org/event/newton-baroque-presents-abandoned-and-alone-a-fanny-von-arnstein-viennese-salon-1790/
LOCATION:Second Church in Newton\, 60 Highland St.\, West Newton\, MA\, 02465\, United States
ATTACH;FMTTYPE=image/png:https://newtonculture.org/wp-content/uploads/2022/10/c1be3159-267f-4a47-986b-bb721b0840cb.png
END:VEVENT
END:VCALENDAR