BEGIN:VCALENDAR
VERSION:2.0
PRODID:-//Newton Cultural Alliance - ECPv6.13.2.1//NONSGML v1.0//EN
CALSCALE:GREGORIAN
METHOD:PUBLISH
X-WR-CALNAME:Newton Cultural Alliance
X-ORIGINAL-URL:https://newtonculture.org
X-WR-CALDESC:Events for Newton Cultural Alliance
REFRESH-INTERVAL;VALUE=DURATION:PT1H
X-Robots-Tag:noindex
X-PUBLISHED-TTL:PT1H
BEGIN:VTIMEZONE
TZID:America/New_York
BEGIN:DAYLIGHT
TZOFFSETFROM:-0500
TZOFFSETTO:-0400
TZNAME:EDT
DTSTART:20220313T070000
END:DAYLIGHT
BEGIN:STANDARD
TZOFFSETFROM:-0400
TZOFFSETTO:-0500
TZNAME:EST
DTSTART:20221106T060000
END:STANDARD
END:VTIMEZONE
BEGIN:VEVENT
DTSTART;TZID=America/New_York:20221023T140000
DTEND;TZID=America/New_York:20221023T153000
DTSTAMP:20260421T093200
CREATED:20221019T155836Z
LAST-MODIFIED:20221019T155836Z
UID:10020744-1666533600-1666539000@newtonculture.org
SUMMARY:All Newton Music School presents Brahms Clarinet Quintet: Special Event
DESCRIPTION:The All Newton Music School presents a special event of Brahms Clarinet Quintet Join ANMS Director Paulette Bowes on clarinet and her musical colleagues Miguel Perez-Espejo\, violin\, Hsin-Lin Tsai\, violin\, Scott Woolweaver\, viola\, and Joel Moerschel\, cello.
URL:https://newtonculture.org/event/all-newton-music-school-presents-brahms-clarinet-quintet-special-event/
LOCATION:All Newton Music School\, 321 Chestnut St\, West Newton\, MA\, 02465\, United States
CATEGORIES:Music
ATTACH;FMTTYPE=image/png:https://newtonculture.org/wp-content/uploads/2022/10/2.png
END:VEVENT
END:VCALENDAR