BEGIN:VCALENDAR
VERSION:2.0
PRODID:-//Newton Cultural Alliance - ECPv6.13.2.1//NONSGML v1.0//EN
CALSCALE:GREGORIAN
METHOD:PUBLISH
X-WR-CALNAME:Newton Cultural Alliance
X-ORIGINAL-URL:https://newtonculture.org
X-WR-CALDESC:Events for Newton Cultural Alliance
REFRESH-INTERVAL;VALUE=DURATION:PT1H
X-Robots-Tag:noindex
X-PUBLISHED-TTL:PT1H
BEGIN:VTIMEZONE
TZID:America/New_York
BEGIN:DAYLIGHT
TZOFFSETFROM:-0500
TZOFFSETTO:-0400
TZNAME:EDT
DTSTART:20220313T070000
END:DAYLIGHT
BEGIN:STANDARD
TZOFFSETFROM:-0400
TZOFFSETTO:-0500
TZNAME:EST
DTSTART:20221106T060000
END:STANDARD
END:VTIMEZONE
BEGIN:VEVENT
DTSTART;TZID=America/New_York:20221105T100000
DTEND;TZID=America/New_York:20221105T113000
DTSTAMP:20260421T093159
CREATED:20221018T161204Z
LAST-MODIFIED:20221018T172336Z
UID:10020741-1667642400-1667647800@newtonculture.org
SUMMARY:Historic Newton presents Forests and Farms
DESCRIPTION:Presented by Historic Newton at Newton Community Farm\, this is a free drop-off program where kids ages 5–12 investigate how Native people and early European settlers in Eastern Massachusetts interacted with the environment to meet their basic needs. Register through Newton Community Farm.
URL:https://newtonculture.org/event/historic-newton-presents-forests-and-farms/
LOCATION:newton community farm
ATTACH;FMTTYPE=image/png:https://newtonculture.org/wp-content/uploads/2022/10/Screenshot-131-e1666109511935.png
END:VEVENT
BEGIN:VEVENT
DTSTART;TZID=America/New_York:20221105T170000
DTEND;TZID=America/New_York:20221105T200000
DTSTAMP:20260421T093159
CREATED:20221010T143649Z
LAST-MODIFIED:20221010T143649Z
UID:10020738-1667667600-1667678400@newtonculture.org
SUMMARY:Don't Close Your Eyes: Ukrainian Artists Respond to the War
DESCRIPTION:Art Exhibit\nNew Art Corridor\n245 Walnut St. Newton\, MA\nNovember 3-26\nOpening Reception: November 5\, 5-8 PM\nThe current exhibit includes over 60 works on paper by Ukrainian artists from various regions in Ukraine. The works will be for sale\, with 50% of the proceeds going to the artist and the other 50% to a humanitarian organization. \nThe exhibits were curated by Hanna Melnyczuk\, a Ukrainian-American artists and Halyna Andrusenko\, an artist from Kyiv.
URL:https://newtonculture.org/event/dont-close-your-eyes-ukrainian-artists-respond-to-the-war/
LOCATION:New Art Center\, 61 Washington Park\, Newton\, MA\, 02460\, United States
CATEGORIES:Visual Arts
ATTACH;FMTTYPE=image/jpeg:https://newtonculture.org/wp-content/uploads/2022/10/E-INVITATION-FOR-THE-EXHIBIT-IN-NEWTON-copy.jpg
ORGANIZER;CN="New Art Center":MAILTO:info@newartcenter.org
END:VEVENT
END:VCALENDAR