BEGIN:VCALENDAR
VERSION:2.0
PRODID:-//Newton Cultural Alliance - ECPv6.13.2.1//NONSGML v1.0//EN
CALSCALE:GREGORIAN
METHOD:PUBLISH
X-ORIGINAL-URL:https://newtonculture.org
X-WR-CALDESC:Events for Newton Cultural Alliance
REFRESH-INTERVAL;VALUE=DURATION:PT1H
X-Robots-Tag:noindex
X-PUBLISHED-TTL:PT1H
BEGIN:VTIMEZONE
TZID:America/New_York
BEGIN:DAYLIGHT
TZOFFSETFROM:-0500
TZOFFSETTO:-0400
TZNAME:EDT
DTSTART:20220313T070000
END:DAYLIGHT
BEGIN:STANDARD
TZOFFSETFROM:-0400
TZOFFSETTO:-0500
TZNAME:EST
DTSTART:20221106T060000
END:STANDARD
END:VTIMEZONE
BEGIN:VEVENT
DTSTART;TZID=America/New_York:20221120T150000
DTEND;TZID=America/New_York:20221120T170000
DTSTAMP:20260421T080606
CREATED:20221114T173627Z
LAST-MODIFIED:20221114T173627Z
UID:10020756-1668956400-1668963600@newtonculture.org
SUMMARY:New Phil presents Classics I: Latin and Slavic Colors
DESCRIPTION:Join us for a performance of the New Philharmonia Orchestra with Zaira Meneses\, performing works by Marquez\, Dvorak\, Villa-Lobos\, and Ginastera! \nMarquez                       Danzon #2 \nDvorak                               Symphony No. 7 \nVilla-Lobos                       Guitar Concerto \nZaira Meneses\, guitar soloist \nGinastera                         Estancia \n\nZaira Meneses has been acclaimed by the international press as a major performing artist of the classical guitar (New York Times: “an arresting performer full of colorful touches”). In 2018 awarded by the Boston Foundation  to bring for the first time in Massachusetts authentic  “ Son Jarocho music ” with Jaranas and requintos from Veracruz. The same year\, she performed “Elegiaco Concerto” under the baton of world famous Cuban composer\, guitarist and conductor: Leo Brouwer. In 2019 Meneses was selected among classical guitarists to perform  in  Leo Brouwer’s documentary: “El origen de la Sombra” filmed in Havana\, Cuba.  6 preludios by Leo Brouwer dedicated to Zaira Meneses\, supported by Augustine Foundation  and  Davoli & McDonagh’s foundation. Meneses is the creator and president of non-profit organization : Eliot Fisk Guitar Academy (EFGA) \, a new platform to bring music education worldwide. Her  Sold out independent CD “Latina” led to a new recording with Centaur Records\, a 45 mins program of J.S.Bach  with her own arrangements . Director and founder of Latin American Music Festival\, Co Director of Boston Guitar Festival for eighteen years consecutively. She continues performing Guitar concertos with Orchestra \, solo recitals  and chamber music career while managing the various events of EFGA.
URL:https://newtonculture.org/event/new-phil-presents-classics-i-latin-and-slavic-colors/
LOCATION:Newton North High School\, 457 Walnut St\, Newton\, MA\, 02460\, United States
ATTACH;FMTTYPE=image/jpeg:https://newtonculture.org/wp-content/uploads/2022/11/newphil.jpg
ORGANIZER;CN="New Philharmonia Orchestra":MAILTO:info@newphil.org
END:VEVENT
END:VCALENDAR