BEGIN:VCALENDAR
VERSION:2.0
PRODID:-//Newton Cultural Alliance - ECPv6.13.2.1//NONSGML v1.0//EN
CALSCALE:GREGORIAN
METHOD:PUBLISH
X-ORIGINAL-URL:https://newtonculture.org
X-WR-CALDESC:Events for Newton Cultural Alliance
REFRESH-INTERVAL;VALUE=DURATION:PT1H
X-Robots-Tag:noindex
X-PUBLISHED-TTL:PT1H
BEGIN:VTIMEZONE
TZID:America/New_York
BEGIN:DAYLIGHT
TZOFFSETFROM:-0500
TZOFFSETTO:-0400
TZNAME:EDT
DTSTART:20220313T070000
END:DAYLIGHT
BEGIN:STANDARD
TZOFFSETFROM:-0400
TZOFFSETTO:-0500
TZNAME:EST
DTSTART:20221106T060000
END:STANDARD
BEGIN:DAYLIGHT
TZOFFSETFROM:-0500
TZOFFSETTO:-0400
TZNAME:EDT
DTSTART:20230312T070000
END:DAYLIGHT
BEGIN:STANDARD
TZOFFSETFROM:-0400
TZOFFSETTO:-0500
TZNAME:EST
DTSTART:20231105T060000
END:STANDARD
END:VTIMEZONE
BEGIN:VEVENT
DTSTART;VALUE=DATE:20221214
DTEND;VALUE=DATE:20230115
DTSTAMP:20260421T051956
CREATED:20221219T144229Z
LAST-MODIFIED:20221219T144229Z
UID:10019450-1670976000-1673740799@newtonculture.org
SUMMARY:Purchase Art Works - to Support Cancer Survivors
DESCRIPTION:Newton Art Association (NAA) members are donating original art to raise funds for Facing Cancer Together (FCT)\, an organization that provides care to cancer survivors and their families who can’t afford or access to essential support services. NAA’s fundraiser is online through January 14\, 2023. Thirty nine artists are participating in the exhibit which features 140 paintings\, drawings\, sculptures\, and photographs. Half of all proceeds go to FCT and the other half to the artists. Many NAA artists are donating all the sale price to FCT. If you are interested in purchasing art\, visit the NAA website (www.newtonartassociation.com).
URL:https://newtonculture.org/event/purchase-art-works-to-support-cancer-survivors/
LOCATION:Newton Art Association\, Newton\, MA
CATEGORIES:Art
ATTACH;FMTTYPE=image/jpeg:https://newtonculture.org/wp-content/uploads/2022/12/Art-for-Good.jpg
END:VEVENT
END:VCALENDAR