BEGIN:VCALENDAR
VERSION:2.0
PRODID:-//Newton Cultural Alliance - ECPv6.13.2.1//NONSGML v1.0//EN
CALSCALE:GREGORIAN
METHOD:PUBLISH
X-WR-CALNAME:Newton Cultural Alliance
X-ORIGINAL-URL:https://newtonculture.org
X-WR-CALDESC:Events for Newton Cultural Alliance
REFRESH-INTERVAL;VALUE=DURATION:PT1H
X-Robots-Tag:noindex
X-PUBLISHED-TTL:PT1H
BEGIN:VTIMEZONE
TZID:America/New_York
BEGIN:DAYLIGHT
TZOFFSETFROM:-0500
TZOFFSETTO:-0400
TZNAME:EDT
DTSTART:20230312T070000
END:DAYLIGHT
BEGIN:STANDARD
TZOFFSETFROM:-0400
TZOFFSETTO:-0500
TZNAME:EST
DTSTART:20231105T060000
END:STANDARD
END:VTIMEZONE
BEGIN:VEVENT
DTSTART;TZID=America/New_York:20230126T200000
DTEND;TZID=America/New_York:20230128T200000
DTSTAMP:20260421T154755
CREATED:20230103T154633Z
LAST-MODIFIED:20230109T153115Z
UID:10020759-1674763200-1674936000@newtonculture.org
SUMMARY:Newton Theatre Company presents St. Joan
DESCRIPTION:Purchase tickets for G.B. Shaw’s Saint Joan\, coming this January! Newton Theatre Company’s all-woman cast presents a high-spirited\, stripped-bare production of Shaw’s classic play about Joan of Arc.
URL:https://newtonculture.org/event/newton-theatre-company-presents-st-joan/
LOCATION:St John’s Episcopal Church\, Newton\, MA\, 297 Lowell Avenue\, Newtonville\, MA\, 02460
ATTACH;FMTTYPE=image/png:https://newtonculture.org/wp-content/uploads/2023/01/st-joan-9x9-1_orig.png
ORGANIZER;CN="Newton Theatre Company":MAILTO:info@newtontheatrecompany.com
END:VEVENT
END:VCALENDAR