BEGIN:VCALENDAR
VERSION:2.0
PRODID:-//Newton Cultural Alliance - ECPv6.13.2.1//NONSGML v1.0//EN
CALSCALE:GREGORIAN
METHOD:PUBLISH
X-WR-CALNAME:Newton Cultural Alliance
X-ORIGINAL-URL:https://newtonculture.org
X-WR-CALDESC:Events for Newton Cultural Alliance
REFRESH-INTERVAL;VALUE=DURATION:PT1H
X-Robots-Tag:noindex
X-PUBLISHED-TTL:PT1H
BEGIN:VTIMEZONE
TZID:America/New_York
BEGIN:DAYLIGHT
TZOFFSETFROM:-0500
TZOFFSETTO:-0400
TZNAME:EDT
DTSTART:20230312T070000
END:DAYLIGHT
BEGIN:STANDARD
TZOFFSETFROM:-0400
TZOFFSETTO:-0500
TZNAME:EST
DTSTART:20231105T060000
END:STANDARD
END:VTIMEZONE
BEGIN:VEVENT
DTSTART;TZID=America/New_York:20230205T150000
DTEND;TZID=America/New_York:20230205T170000
DTSTAMP:20260421T061517
CREATED:20220919T153708Z
LAST-MODIFIED:20220919T154114Z
UID:10020720-1675609200-1675616400@newtonculture.org
SUMMARY:Pro Arte presents Salon 2
DESCRIPTION:One of Pro Arte’s regular string quartets returns for a warm\, welcoming winter afternoon concert.
URL:https://newtonculture.org/event/pro-arte-presents-salon-2/
LOCATION:The Allen Center\, 35 Webster St\, WEST NEWTON\, MA\, 02465\, United States
ATTACH;FMTTYPE=image/jpeg:https://newtonculture.org/wp-content/uploads/2022/09/Screen-Shot-2022-05-06-at-4.13.38-PM.jpg
END:VEVENT
END:VCALENDAR