BEGIN:VCALENDAR
VERSION:2.0
PRODID:-//Newton Cultural Alliance - ECPv6.13.2.1//NONSGML v1.0//EN
CALSCALE:GREGORIAN
METHOD:PUBLISH
X-WR-CALNAME:Newton Cultural Alliance
X-ORIGINAL-URL:https://newtonculture.org
X-WR-CALDESC:Events for Newton Cultural Alliance
REFRESH-INTERVAL;VALUE=DURATION:PT1H
X-Robots-Tag:noindex
X-PUBLISHED-TTL:PT1H
BEGIN:VTIMEZONE
TZID:America/New_York
BEGIN:DAYLIGHT
TZOFFSETFROM:-0500
TZOFFSETTO:-0400
TZNAME:EDT
DTSTART:20230312T070000
END:DAYLIGHT
BEGIN:STANDARD
TZOFFSETFROM:-0400
TZOFFSETTO:-0500
TZNAME:EST
DTSTART:20231105T060000
END:STANDARD
END:VTIMEZONE
BEGIN:VEVENT
DTSTART;TZID=America/New_York:20230209T190000
DTEND;TZID=America/New_York:20230209T210000
DTSTAMP:20260421T061546
CREATED:20230118T164320Z
LAST-MODIFIED:20230118T164458Z
UID:10020771-1675969200-1675976400@newtonculture.org
SUMMARY:Newton Art Association presents Deb Drummond\, Mixed Media
DESCRIPTION:Deb Drummond\, Mixed Media\nThursday\, February 9\, 12:00 pm \nNewton Art Association presents a virtual demonstration with Deborah Drummond\, a Boston area artist who for many years practiced as a professional freelance illustrator /designer and photographer. Drummond returned to painting non-objective abstraction working in acrylic\, collage\, and printmaking\, and has begun sharing her experience and techniques. \nDeborah Drummond is a Boston area artist who for many years practiced as a professional freelance illustrator /designer and photographer. She returned to painting non-objective abstraction working in acrylic\, collage and printmaking and has begun sharing her experience and techniques. \nZoom Details: \nhttps://us02web.zoom.us/j/85255569150?pwd=Qkdlb25BeDV4bDdrNy9QT0IwaC9Odz09\nNewton AA is inviting you to a scheduled Zoom meeting.\nTopic: Deb Drummond\, Mixed Media\nTime: Feb 9\, 2023 12:00 PM Eastern Time (US and Canada)\nJoin Zoom Meeting\nhttps://us02web.zoom.us/j/85255569150?pwd=Qkdlb25BeDV4bDdrNy9QT0IwaC9Odz09\nMeeting ID: 852 5556 9150\nPasscode: 640645\nOne tap mobile\n+13092053325\,\,85255569150#\,\,\,\,*640645# US\nMeeting ID: 852 5556 9150\nPasscode: 640645\nFind your local number: https://us02web.zoom.us/u/kJRnCjH6Q
URL:https://newtonculture.org/event/newton-art-association-presents-deb-drummond-mixed-media/
LOCATION:MA
CATEGORIES:Art,Culture and Education
ATTACH;FMTTYPE=image/jpeg:https://newtonculture.org/wp-content/uploads/2023/01/deb-drummond-mixed-media.jpg
END:VEVENT
END:VCALENDAR