BEGIN:VCALENDAR
VERSION:2.0
PRODID:-//Newton Cultural Alliance - ECPv6.13.2.1//NONSGML v1.0//EN
CALSCALE:GREGORIAN
METHOD:PUBLISH
X-WR-CALNAME:Newton Cultural Alliance
X-ORIGINAL-URL:https://newtonculture.org
X-WR-CALDESC:Events for Newton Cultural Alliance
REFRESH-INTERVAL;VALUE=DURATION:PT1H
X-Robots-Tag:noindex
X-PUBLISHED-TTL:PT1H
BEGIN:VTIMEZONE
TZID:America/New_York
BEGIN:DAYLIGHT
TZOFFSETFROM:-0500
TZOFFSETTO:-0400
TZNAME:EDT
DTSTART:20230312T070000
END:DAYLIGHT
BEGIN:STANDARD
TZOFFSETFROM:-0400
TZOFFSETTO:-0500
TZNAME:EST
DTSTART:20231105T060000
END:STANDARD
END:VTIMEZONE
BEGIN:VEVENT
DTSTART;TZID=America/New_York:20230216T190000
DTEND;TZID=America/New_York:20230216T210000
DTSTAMP:20260421T061517
CREATED:20230117T153144Z
LAST-MODIFIED:20230125T145620Z
UID:10020770-1676574000-1676581200@newtonculture.org
SUMMARY:Newton Art Association presents The Art of Critique by Robert Siegelman
DESCRIPTION:Robert Siegelman\, a widely recognized and acclaimed artist and teacher\, will lead a dynamic discussion that expands the boundaries of art critique. What does our artwork say? What questions does our work ask? This is an exceptional opportunity to experience and engage in a unique approach to art critique. \nThe discussion will spring from the artworks of five NAA artists who submit three (3) recent related works. Submitted works may be in progress or finished. They are accepted on a first come basis. All attendees participate in the discussion. NAA artists interested in submitting works should contact Cindy Cole (cynthiahcole@gmail.com). Deadline for submissions: February 1\, 2023. \nSiegelman is a photographer\, figurative expressionist\, and a transformative teacher. His teaching itself is a fine art. He taught at The SMFA/Tufts University in Boston for forty years. He continues to teach and work with artists privately. \nNote: This is a Zoom presentation. Zoom Link\nhttps://us02web.zoom.us/j/88627232603?pwd=ZjdxemE2SEJYNkhEdVY3dkVielNxQT09
URL:https://newtonculture.org/event/the-art-of-critique-robert-siegelman/
LOCATION:Newton Art Association\, Newton\, MA
ATTACH;FMTTYPE=image/jpeg:https://newtonculture.org/wp-content/uploads/2023/01/Robert-Seigelman.jpg
ORGANIZER;CN="Newton Art Association":MAILTO:publicity@newtonartassociation.com
END:VEVENT
BEGIN:VEVENT
DTSTART;TZID=America/New_York:20230216T190000
DTEND;TZID=America/New_York:20230216T210000
DTSTAMP:20260421T061517
CREATED:20230125T144725Z
LAST-MODIFIED:20230125T144725Z
UID:10019465-1676574000-1676581200@newtonculture.org
SUMMARY:Historic Newton presents Moving North
DESCRIPTION:Moving North\nThursday\, February 16\, 7:00 pm \nBetween 1870 and 1900\, more than 100 Black families moved from Virginia to West Newton\, seeking mobility and better opportunities after the Civil War put an end to slavery. Historic Newton presents “Moving North: Black Virginians in Newton\,” a talk that follows the lives of some of these families\, exploring what they left behind\, and the lives they were able to build in their new location.
URL:https://newtonculture.org/event/historic-newton-presents-moving-north/
LOCATION:MA
ATTACH;FMTTYPE=image/jpeg:https://newtonculture.org/wp-content/uploads/2023/01/Moving-North-announcement-to-share_Qf08.jpg
END:VEVENT
END:VCALENDAR