BEGIN:VCALENDAR
VERSION:2.0
PRODID:-//Newton Cultural Alliance - ECPv6.13.2.1//NONSGML v1.0//EN
CALSCALE:GREGORIAN
METHOD:PUBLISH
X-WR-CALNAME:Newton Cultural Alliance
X-ORIGINAL-URL:https://newtonculture.org
X-WR-CALDESC:Events for Newton Cultural Alliance
REFRESH-INTERVAL;VALUE=DURATION:PT1H
X-Robots-Tag:noindex
X-PUBLISHED-TTL:PT1H
BEGIN:VTIMEZONE
TZID:America/New_York
BEGIN:DAYLIGHT
TZOFFSETFROM:-0500
TZOFFSETTO:-0400
TZNAME:EDT
DTSTART:20230312T070000
END:DAYLIGHT
BEGIN:STANDARD
TZOFFSETFROM:-0400
TZOFFSETTO:-0500
TZNAME:EST
DTSTART:20231105T060000
END:STANDARD
END:VTIMEZONE
BEGIN:VEVENT
DTSTART;TZID=America/New_York:20230221T120000
DTEND;TZID=America/New_York:20230221T160000
DTSTAMP:20260421T074315
CREATED:20230220T152531Z
LAST-MODIFIED:20230220T152531Z
UID:10020780-1676980800-1676995200@newtonculture.org
SUMMARY:Historic Newton presents Newton on the Map: School Vacation Week Activities
DESCRIPTION:Newton on the Map: School Vacation Week Activities\n\nDate:02/21-24/2023 12:00 PM – 4:00 PM\nLocation:Durant-Kenrick House and Grounds\n286 Waverley Ave.\nNewton\, Massachusetts 02458\n\nAdd to my Calendar\n\nFind your way to the Durant-Kenrick House and Grounds for our activities! Our theme is all things map-related. Step into the role of cartographer\, explore our museum galleries with a scavenger hunt\, examine how Newton has changed over time\, and share your favorite local landmarks. All activities are free with museum admission. Suggested ages 4-12; all are welcome to drop in. This program runs February 21-24\, each day from noon to 4:00 p.m.
URL:https://newtonculture.org/event/historic-newton-presents-newton-on-the-map-school-vacation-week-activities/2023-02-21/
LOCATION:MA
ATTACH;FMTTYPE=image/jpeg:https://newtonculture.org/wp-content/uploads/2023/02/hn3.jpeg
END:VEVENT
END:VCALENDAR