BEGIN:VCALENDAR
VERSION:2.0
PRODID:-//Newton Cultural Alliance - ECPv6.13.2.1//NONSGML v1.0//EN
CALSCALE:GREGORIAN
METHOD:PUBLISH
X-ORIGINAL-URL:https://newtonculture.org
X-WR-CALDESC:Events for Newton Cultural Alliance
REFRESH-INTERVAL;VALUE=DURATION:PT1H
X-Robots-Tag:noindex
X-PUBLISHED-TTL:PT1H
BEGIN:VTIMEZONE
TZID:America/New_York
BEGIN:DAYLIGHT
TZOFFSETFROM:-0500
TZOFFSETTO:-0400
TZNAME:EDT
DTSTART:20230312T070000
END:DAYLIGHT
BEGIN:STANDARD
TZOFFSETFROM:-0400
TZOFFSETTO:-0500
TZNAME:EST
DTSTART:20231105T060000
END:STANDARD
END:VTIMEZONE
BEGIN:VEVENT
DTSTART;TZID=America/New_York:20230223T120000
DTEND;TZID=America/New_York:20230223T160000
DTSTAMP:20260421T061544
CREATED:20230220T152531Z
LAST-MODIFIED:20230220T152531Z
UID:10020782-1677153600-1677168000@newtonculture.org
SUMMARY:Historic Newton presents Newton on the Map: School Vacation Week Activities
DESCRIPTION:Newton on the Map: School Vacation Week Activities\n\nDate:02/21-24/2023 12:00 PM – 4:00 PM\nLocation:Durant-Kenrick House and Grounds\n286 Waverley Ave.\nNewton\, Massachusetts 02458\n\nAdd to my Calendar\n\nFind your way to the Durant-Kenrick House and Grounds for our activities! Our theme is all things map-related. Step into the role of cartographer\, explore our museum galleries with a scavenger hunt\, examine how Newton has changed over time\, and share your favorite local landmarks. All activities are free with museum admission. Suggested ages 4-12; all are welcome to drop in. This program runs February 21-24\, each day from noon to 4:00 p.m.
URL:https://newtonculture.org/event/historic-newton-presents-newton-on-the-map-school-vacation-week-activities/2023-02-23/
LOCATION:MA
ATTACH;FMTTYPE=image/jpeg:https://newtonculture.org/wp-content/uploads/2023/02/hn3.jpeg
END:VEVENT
BEGIN:VEVENT
DTSTART;TZID=America/New_York:20230223T190000
DTEND;TZID=America/New_York:20230223T200000
DTSTAMP:20260421T061544
CREATED:20230220T151817Z
LAST-MODIFIED:20230220T151846Z
UID:10019517-1677178800-1677182400@newtonculture.org
SUMMARY:Historic Newton presents Jewish Lawyers Against Jim Crow
DESCRIPTION:Jewish Lawyers Against Jim Crow\n\nDate:02/23/2023 7:00 PM – 8:00 PM\nLocation:Virtual\nVirtual Meeting\nNewton\, Massachusetts 02459\n\nAdd to my Calendar\nIn the 1960s\, the campaign against Jim Crow laws in the South was mounted not only in the streets but also in the courts\, especially because a few hundred attorneys from outside the region represented civil rights activists. The demographic of this group is striking. Nearly all of these attorneys were white men; nearly all of them were Jews\, including a young Barney Frank. By challenging legally-enforced segregation\, these members of the bar made “the equal protection of the laws” more widely applicable even outside the South. Yet what they accomplished is yet to be adequately told\, or appreciated. This presentation by Brandeis professor emeritus Stephen Whitfield is intended to rectify some of that neglect. Part of the Newton History Series with the Newton Free Library. Register here.
URL:https://newtonculture.org/event/historic-newton-presents-jewish-lawyers-against-jim-crow/
LOCATION:MA
ATTACH;FMTTYPE=image/jpeg:https://newtonculture.org/wp-content/uploads/2023/02/hn.jpeg
END:VEVENT
END:VCALENDAR