BEGIN:VCALENDAR
VERSION:2.0
PRODID:-//Newton Cultural Alliance - ECPv6.13.2.1//NONSGML v1.0//EN
CALSCALE:GREGORIAN
METHOD:PUBLISH
X-WR-CALNAME:Newton Cultural Alliance
X-ORIGINAL-URL:https://newtonculture.org
X-WR-CALDESC:Events for Newton Cultural Alliance
REFRESH-INTERVAL;VALUE=DURATION:PT1H
X-Robots-Tag:noindex
X-PUBLISHED-TTL:PT1H
BEGIN:VTIMEZONE
TZID:America/New_York
BEGIN:DAYLIGHT
TZOFFSETFROM:-0500
TZOFFSETTO:-0400
TZNAME:EDT
DTSTART:20230312T070000
END:DAYLIGHT
BEGIN:STANDARD
TZOFFSETFROM:-0400
TZOFFSETTO:-0500
TZNAME:EST
DTSTART:20231105T060000
END:STANDARD
END:VTIMEZONE
BEGIN:VEVENT
DTSTART;TZID=America/New_York:20230304T193000
DTEND;TZID=America/New_York:20230304T203000
DTSTAMP:20260421T051930
CREATED:20230301T170142Z
LAST-MODIFIED:20230301T170349Z
UID:10020793-1677958200-1677961800@newtonculture.org
SUMMARY: Newton Baroque presents A Parisian Salon 1715
DESCRIPTION:On Saturday\, March 4 at 7:30 pm Newton Baroque presents A Parisian Salon 1715: The Salon By Which All Other Salons Measure Themselves. \nThe women of the 18th Century really knew how to host elegant and stimulating salon events.   This concert features a repertoire written for these lovely events\, including cantatas by Nicolas Bernier and Michel Pignolet de Montéclair.  Also on the program is the celebrated Sonnerie de Sainte Genevieve du Mont de Paris by Marin Marias\, and Andrus Madsen will play a harpsichord suite consisting of improvised character pieces in the tradition of the French Clavicinists and the Chaconne Favorite by François Couperin. \nJason McStoots tenor\, Susanna Ogata violin\, Laura Jeppesen viola da gamba\, Andrus Madsen harpsichord
URL:https://newtonculture.org/event/newton-baroque-presents-a-parisian-salon-1715/
LOCATION:Second Church in Newton\, 60 Highland St.\, West Newton\, MA\, 02465\, United States
ATTACH;FMTTYPE=image/png:https://newtonculture.org/wp-content/uploads/2023/03/nw.png
END:VEVENT
END:VCALENDAR