BEGIN:VCALENDAR
VERSION:2.0
PRODID:-//Newton Cultural Alliance - ECPv6.13.2.1//NONSGML v1.0//EN
CALSCALE:GREGORIAN
METHOD:PUBLISH
X-ORIGINAL-URL:https://newtonculture.org
X-WR-CALDESC:Events for Newton Cultural Alliance
REFRESH-INTERVAL;VALUE=DURATION:PT1H
X-Robots-Tag:noindex
X-PUBLISHED-TTL:PT1H
BEGIN:VTIMEZONE
TZID:America/New_York
BEGIN:DAYLIGHT
TZOFFSETFROM:-0500
TZOFFSETTO:-0400
TZNAME:EDT
DTSTART:20230312T070000
END:DAYLIGHT
BEGIN:STANDARD
TZOFFSETFROM:-0400
TZOFFSETTO:-0500
TZNAME:EST
DTSTART:20231105T060000
END:STANDARD
END:VTIMEZONE
BEGIN:VEVENT
DTSTART;TZID=America/New_York:20230312T150000
DTEND;TZID=America/New_York:20230312T170000
DTSTAMP:20260421T052033
CREATED:20230118T170442Z
LAST-MODIFIED:20230224T172603Z
UID:10020773-1678633200-1678640400@newtonculture.org
SUMMARY:New Phil Presents Classics II
DESCRIPTION:New Phil Reawakens!\n2022 – 2023 | 28th season\nAll programs are subject to change. \nBuy your tickets here! \nClassics II on March 12\, 3pm \nThe French-American Connection\nBoulanger\nGounod\nKos-Anatolsky\nBernstein\nFranck\nD’un soir triste\nJuliette’s Waltz\nSolovyiny Romans\nGlitter and be Gay\nOlga Lisovskaya\, soprano soloist\nSymphony in D minor
URL:https://newtonculture.org/event/new-phil-presents-classics-ii/
LOCATION:Brown Middle School\, 125 Meadowbrook Road\, Newton Centre\, MA\, 02459
ATTACH;FMTTYPE=image/jpeg:https://newtonculture.org/wp-content/uploads/2019/08/new-philharmonia.jpg
ORGANIZER;CN="New Philharmonia Orchestra":MAILTO:info@newphil.org
END:VEVENT
BEGIN:VEVENT
DTSTART;TZID=America/New_York:20230312T150000
DTEND;TZID=America/New_York:20230312T170000
DTSTAMP:20260421T052033
CREATED:20230310T182528Z
LAST-MODIFIED:20230310T182528Z
UID:10020796-1678633200-1678640400@newtonculture.org
SUMMARY:Zamir presents Nashirah
DESCRIPTION:Zamir and Nashirah in Concert\nSunday\, March 12\, 3:00 pm\, Temple Reyim\, Newton\, MA\nPlease note that this concert is sold-out. If you would like to be added to the waitlist\, click here. If you made a reservation\, but are unable to attend\, let us know as soon as possible\, manager@Zamir.org\, so that someone else can take your seat. In-person only. \nZamir is delighted to host Nashirah\, Philadelphia’s premier Jewish choral ensemble\, on March 12\, when we feature music by Stephen Glass\, Charles Davidson\, Salamone Rossi\, Jeff Klepper\, Yehezkel Braun\, and much more. \nNow in its twentieth year\, and led by Artistic Director Dr. Julia Zavadsky\, Nashirah offers distinct musical programming that embodies the broadest possible range of Jewish repertoire\, bringing together choral music of many lands\, languages\, and cultures. Our combined voices will present a program not to be missed! \nThis free and in-person event (donations encouraged) is cosponsored by Temple Reyim and Hebrew College. Please note that the program will not be live-streamed.
URL:https://newtonculture.org/event/zamir-presents-nashirah/
LOCATION:MA
ATTACH;FMTTYPE=image/jpeg:https://newtonculture.org/wp-content/uploads/2023/03/NashiraZamir.jpeg
ORGANIZER;CN="Zamir Chorale of Boston":MAILTO:manager@zamir.org
END:VEVENT
BEGIN:VEVENT
DTSTART;TZID=America/New_York:20230312T160000
DTEND;TZID=America/New_York:20230312T180000
DTSTAMP:20260421T052033
CREATED:20230217T195234Z
LAST-MODIFIED:20230310T181830Z
UID:10019481-1678636800-1678644000@newtonculture.org
SUMMARY:Cappella Clausura presents Artemisia
DESCRIPTION:Join Cappella Clausura this March for a captivating theatrical event!\n\n\n\n\nContemporary theatre and 17th-century music combine to create a rich tapestry of interwoven narratives about female resilience. Gain a new perspective on Baroque artist Artemisia Gentileschi and the women who inspired her. \n​ \nBlood Water Paint \nSponsored by Helen A Berger & John Wolff \nPlay by Joy McCullough \nCantatas by Élisabeth Jacquet de La Guerre \nMarch 11th at 8 PM: War Memorial Auditorium\, Newton \nMarch 12th at 4 PM: Emmanuel Church\, Boston \nClick here to purchase your tickets! \n​ \nContent warning: This program contains descriptions of gore and sexual violence.
URL:https://newtonculture.org/event/cappella-clausura-presents-blood-water-paint/2023-03-12/
LOCATION:MA
CATEGORIES:Music
ATTACH;FMTTYPE=image/png:https://newtonculture.org/wp-content/uploads/2023/02/capella.png
ORGANIZER;CN="Cappella Clausura":MAILTO:manager@clausura.org
END:VEVENT
END:VCALENDAR