BEGIN:VCALENDAR
VERSION:2.0
PRODID:-//Newton Cultural Alliance - ECPv6.13.2.1//NONSGML v1.0//EN
CALSCALE:GREGORIAN
METHOD:PUBLISH
X-WR-CALNAME:Newton Cultural Alliance
X-ORIGINAL-URL:https://newtonculture.org
X-WR-CALDESC:Events for Newton Cultural Alliance
REFRESH-INTERVAL;VALUE=DURATION:PT1H
X-Robots-Tag:noindex
X-PUBLISHED-TTL:PT1H
BEGIN:VTIMEZONE
TZID:America/New_York
BEGIN:DAYLIGHT
TZOFFSETFROM:-0500
TZOFFSETTO:-0400
TZNAME:EDT
DTSTART:20230312T070000
END:DAYLIGHT
BEGIN:STANDARD
TZOFFSETFROM:-0400
TZOFFSETTO:-0500
TZNAME:EST
DTSTART:20231105T060000
END:STANDARD
END:VTIMEZONE
BEGIN:VEVENT
DTSTART;TZID=America/New_York:20230316T190000
DTEND;TZID=America/New_York:20230316T203000
DTSTAMP:20260421T051927
CREATED:20230310T181957Z
LAST-MODIFIED:20230310T182019Z
UID:10020795-1678993200-1678998600@newtonculture.org
SUMMARY:Newton Art Association presents Best Practices for Artists by Laura Shabott
DESCRIPTION:Who am I when I walk into the studio? Best Practices for Artists | Laura Shabott\n\n\n\n\nThe term ‘artist practice’ is an on-trend popular term but what does it really mean\, and most importantly\, what does it mean to you? Provincetown-based artist and teacher Laura Shabott will take you through the who\, what\, when\, where\, why of an artist practice so that you can define\, refine\, and empower your time in the studio. \nShabott makes paintings\, drawings and collage that respond to nature with boldness\, strength\, and originality. She is a graduate of the School of the Museum of Fine Arts\, Boston at TUFTS\, a frequent Returning Resident at the Fine Arts Work Center\, and represented by Berta Walker Gallery\, Provincetown. www.laurashabott.com \nShabott/Barrett provides dynamic online/hybrid art courses in partnerships with art institutions\, and through independent programming. www.shabottbarrett.com \nZoom Link\nhttps://us02web.zoom.us/j/81260571328?pwd=WHBQSzZPVWc4ZzR1Z3E1clBFOGdrZz09 \nLaura Shabott (@laurashabottart) • Instagram photos and videos\nLaura Shabott | Facebook
URL:https://newtonculture.org/event/newton-art-association-presents-best-practices-for-artists-by-laura-shabott/
LOCATION:MA
ATTACH;FMTTYPE=image/jpeg:https://newtonculture.org/wp-content/uploads/2023/03/Laura-Shabott.jpg
ORGANIZER;CN="Newton Art Association":MAILTO:info@newtonartassociation.com
END:VEVENT
END:VCALENDAR