BEGIN:VCALENDAR
VERSION:2.0
PRODID:-//Newton Cultural Alliance - ECPv6.13.2.1//NONSGML v1.0//EN
CALSCALE:GREGORIAN
METHOD:PUBLISH
X-WR-CALNAME:Newton Cultural Alliance
X-ORIGINAL-URL:https://newtonculture.org
X-WR-CALDESC:Events for Newton Cultural Alliance
REFRESH-INTERVAL;VALUE=DURATION:PT1H
X-Robots-Tag:noindex
X-PUBLISHED-TTL:PT1H
BEGIN:VTIMEZONE
TZID:America/New_York
BEGIN:DAYLIGHT
TZOFFSETFROM:-0500
TZOFFSETTO:-0400
TZNAME:EDT
DTSTART:20230312T070000
END:DAYLIGHT
BEGIN:STANDARD
TZOFFSETFROM:-0400
TZOFFSETTO:-0500
TZNAME:EST
DTSTART:20231105T060000
END:STANDARD
END:VTIMEZONE
BEGIN:VEVENT
DTSTART;TZID=America/New_York:20230331T190000
DTEND;TZID=America/New_York:20230331T210000
DTSTAMP:20260421T093159
CREATED:20230329T171905Z
LAST-MODIFIED:20230329T171905Z
UID:10020832-1680289200-1680296400@newtonculture.org
SUMMARY:Night Out At New Art Center
DESCRIPTION:*Enjoy another Night Out At New Art on Friday\, March 31st at 7:00 pm. New Art Center brings ZNT Arts to teach you how to create your very own unique crystal wire-wrapped jewelry. Choose from an exceptional selection of beautiful semi-precious gemstones and learn about their meanings and possible uses. Register here to create art\, good conversation\, and good energies with crystal magic.
URL:https://newtonculture.org/event/night-out-at-new-art-center/
LOCATION:New Art Center\, 61 Washington Park\, Newton\, MA\, 02460\, United States
ATTACH;FMTTYPE=image/jpeg:https://newtonculture.org/wp-content/uploads/2023/03/7AD06154-3885-4A55-A579-DD564375C0F7.jpeg
ORGANIZER;CN="New Art Center":MAILTO:info@newartcenter.org
END:VEVENT
END:VCALENDAR