BEGIN:VCALENDAR
VERSION:2.0
PRODID:-//Newton Cultural Alliance - ECPv6.13.2.1//NONSGML v1.0//EN
CALSCALE:GREGORIAN
METHOD:PUBLISH
X-ORIGINAL-URL:https://newtonculture.org
X-WR-CALDESC:Events for Newton Cultural Alliance
REFRESH-INTERVAL;VALUE=DURATION:PT1H
X-Robots-Tag:noindex
X-PUBLISHED-TTL:PT1H
BEGIN:VTIMEZONE
TZID:America/New_York
BEGIN:DAYLIGHT
TZOFFSETFROM:-0500
TZOFFSETTO:-0400
TZNAME:EDT
DTSTART:20230312T070000
END:DAYLIGHT
BEGIN:STANDARD
TZOFFSETFROM:-0400
TZOFFSETTO:-0500
TZNAME:EST
DTSTART:20231105T060000
END:STANDARD
END:VTIMEZONE
BEGIN:VEVENT
DTSTART;TZID=America/New_York:20230411T190000
DTEND;TZID=America/New_York:20230411T200000
DTSTAMP:20260423T061734
CREATED:20230405T163454Z
LAST-MODIFIED:20230405T163454Z
UID:10019540-1681239600-1681243200@newtonculture.org
SUMMARY:Scandinavian Cultural Center presents Lecture on Anders Zorn
DESCRIPTION:Lecture on Anders Zorn\nTuesday\, April 11\, 7:00 pm \nThe Scandinavian Cultural Center will host a lecture with Dr. Johan Cederlund\, Museum Director at the Zorn Museum. His presentation will focus on the works\, life\, and legacy of Anders Zorn\, a Swedish master painter who attained international success as a painter\, sculptor\, and etching artist.
URL:https://newtonculture.org/event/scandinavian-cultural-center-presents-lecture-on-anders-zorn/
LOCATION:MA
ATTACH;FMTTYPE=image/jpeg:https://newtonculture.org/wp-content/uploads/2023/04/Zo-065-Midnatt-1891-600x266-1.jpg
END:VEVENT
END:VCALENDAR