BEGIN:VCALENDAR
VERSION:2.0
PRODID:-//Newton Cultural Alliance - ECPv6.13.2.1//NONSGML v1.0//EN
CALSCALE:GREGORIAN
METHOD:PUBLISH
X-WR-CALNAME:Newton Cultural Alliance
X-ORIGINAL-URL:https://newtonculture.org
X-WR-CALDESC:Events for Newton Cultural Alliance
REFRESH-INTERVAL;VALUE=DURATION:PT1H
X-Robots-Tag:noindex
X-PUBLISHED-TTL:PT1H
BEGIN:VTIMEZONE
TZID:America/New_York
BEGIN:DAYLIGHT
TZOFFSETFROM:-0500
TZOFFSETTO:-0400
TZNAME:EDT
DTSTART:20230312T070000
END:DAYLIGHT
BEGIN:STANDARD
TZOFFSETFROM:-0400
TZOFFSETTO:-0500
TZNAME:EST
DTSTART:20231105T060000
END:STANDARD
END:VTIMEZONE
BEGIN:VEVENT
DTSTART;TZID=America/New_York:20230504T190000
DTEND;TZID=America/New_York:20230504T210000
DTSTAMP:20260421T120456
CREATED:20230327T151146Z
LAST-MODIFIED:20230327T151146Z
UID:10020825-1683226800-1683234000@newtonculture.org
SUMMARY:First Church in Chestnut Hill presents "On Broadway"
DESCRIPTION:First Church in Chestnut Hill presents “On Broadway”. Our professional pianist and quartet will perform selections from Rent\, Hamilton\, My Fair Lady\, Carousel\, Phantom of the Opera\, Les Miserables and more. The concert is free and open to the public. All are welcome to enjoy a night of broadway fun!
URL:https://newtonculture.org/event/first-church-in-chestnut-hill-presents-on-broadway/
LOCATION:MA
ORGANIZER;CN="First Church in Chestnut Hill":MAILTO:26suffolk@gmail.com
END:VEVENT
BEGIN:VEVENT
DTSTART;TZID=America/New_York:20230504T190000
DTEND;TZID=America/New_York:20230504T210000
DTSTAMP:20260421T120456
CREATED:20230426T152805Z
LAST-MODIFIED:20230426T152805Z
UID:10020835-1683226800-1683234000@newtonculture.org
SUMMARY:First Church in Chestnut Hill presents On Broadway
DESCRIPTION:First Church in Chestnut Hill presents “On Broadway”. Our professional pianist and quartet will perform selections from Rent\, Hamilton\, My Fair Lady\, Carousel\, Phantom of the Opera\, Les Miserables and more. The concert is free and open to the public. All are welcome to enjoy a night of broadway fun!
URL:https://newtonculture.org/event/first-church-in-chestnut-hill-presents-on-broadway-2/
LOCATION:MA
CATEGORIES:Music
ATTACH;FMTTYPE=image/jpeg:https://newtonculture.org/wp-content/uploads/2023/04/On-Broadway_SSIF.jpg
ORGANIZER;CN="First Church in Chestnut Hill":MAILTO:26suffolk@gmail.com
END:VEVENT
END:VCALENDAR