BEGIN:VCALENDAR
VERSION:2.0
PRODID:-//Newton Cultural Alliance - ECPv6.13.2.1//NONSGML v1.0//EN
CALSCALE:GREGORIAN
METHOD:PUBLISH
X-WR-CALNAME:Newton Cultural Alliance
X-ORIGINAL-URL:https://newtonculture.org
X-WR-CALDESC:Events for Newton Cultural Alliance
REFRESH-INTERVAL;VALUE=DURATION:PT1H
X-Robots-Tag:noindex
X-PUBLISHED-TTL:PT1H
BEGIN:VTIMEZONE
TZID:America/New_York
BEGIN:DAYLIGHT
TZOFFSETFROM:-0500
TZOFFSETTO:-0400
TZNAME:EDT
DTSTART:20230312T070000
END:DAYLIGHT
BEGIN:STANDARD
TZOFFSETFROM:-0400
TZOFFSETTO:-0500
TZNAME:EST
DTSTART:20231105T060000
END:STANDARD
END:VTIMEZONE
BEGIN:VEVENT
DTSTART;TZID=America/New_York:20230506T130000
DTEND;TZID=America/New_York:20230506T150000
DTSTAMP:20260421T115655
CREATED:20230508T172626Z
LAST-MODIFIED:20230508T172626Z
UID:10020842-1683378000-1683385200@newtonculture.org
SUMMARY:Newton Piano Summit 2023
DESCRIPTION:The Newton Piano Summit 2023 season is on with 8 concerts running for two consecutive weekends in May. This season will feature Classical\, Latin\, Jazz\, and more at Second Church in Newton.  Admission is free and donations are welcome.
URL:https://newtonculture.org/event/newton-piano-summit-2023/2023-05-06/
LOCATION:Second Church in Newton\, 60 Highland St.\, West Newton\, MA\, 02465\, United States
ATTACH;FMTTYPE=image/jpeg:https://newtonculture.org/wp-content/uploads/2023/05/unnamed-1.jpg
ORGANIZER;CN="Newton Piano Summit":MAILTO:cpitts@wabanimprovement.org
END:VEVENT
BEGIN:VEVENT
DTSTART;TZID=America/New_York:20230506T190000
DTEND;TZID=America/New_York:20230506T190000
DTSTAMP:20260421T115655
CREATED:20230420T142613Z
LAST-MODIFIED:20230420T142613Z
UID:10019546-1683399600-1683399600@newtonculture.org
SUMMARY:Andromeda Belly Dance presents The Spring Hafla
DESCRIPTION:Saturday\, May 6\, 7:00 pm \nAndromeda Belly Dance presents The Spring Hafla (Arabic word for party)\, a bi-annual multicultural showcase of dance ranging from MENAHT (Middle Eastern\, North African\, Hellenic\, Turkish) to Asian\, Balkan\, and Eastern European styles.
URL:https://newtonculture.org/event/andromeda-belly-dance-presents-the-spring-hafla/
LOCATION:MA
ATTACH;FMTTYPE=image/png:https://newtonculture.org/wp-content/uploads/2023/04/springhafla2023_QER0.png
END:VEVENT
BEGIN:VEVENT
DTSTART;TZID=America/New_York:20230506T193000
DTEND;TZID=America/New_York:20230506T193000
DTSTAMP:20260421T115655
CREATED:20230420T142311Z
LAST-MODIFIED:20230420T142316Z
UID:10019544-1683401400-1683401400@newtonculture.org
SUMMARY:Paul Rishell & Annie Raines
DESCRIPTION:The Allen Center / Cherry Street Music presents a fabulous Americana duo!\nFor 30 years Paul Rishell & Annie Raines have been hailed as one of the world’s best blues duos. They have recorded 6 albums together including the W.C. Handy Award-winning Moving to the Country (2000)\, and received numerous award nominations from the Blues Foundation. They have performed and recorded with John Sebastian\, Susan Tedeschi\, Pinetop Perkins\, and Rory Block. They have opened for Ray Charles\, Dr. John\, and Little Feat\, and performed on international radio and TV shows including Late Night with Conan O’Brien and A Prairie Home Companion. They continue to perform American roots music and their own compositions at festivals\, concert halls\, and clubs all over the world. \nTickets are $25 in advance or $30 at the door. \nRead more at https://paulandannie.com/
URL:https://newtonculture.org/event/paul-rishell-annie-raines/
LOCATION:MA
CATEGORIES:At the Allen Center
ATTACH;FMTTYPE=image/jpeg:https://newtonculture.org/wp-content/uploads/2023/04/paulannie2.jpeg
END:VEVENT
END:VCALENDAR