BEGIN:VCALENDAR
VERSION:2.0
PRODID:-//Newton Cultural Alliance - ECPv6.13.2.1//NONSGML v1.0//EN
CALSCALE:GREGORIAN
METHOD:PUBLISH
X-WR-CALNAME:Newton Cultural Alliance
X-ORIGINAL-URL:https://newtonculture.org
X-WR-CALDESC:Events for Newton Cultural Alliance
REFRESH-INTERVAL;VALUE=DURATION:PT1H
X-Robots-Tag:noindex
X-PUBLISHED-TTL:PT1H
BEGIN:VTIMEZONE
TZID:America/New_York
BEGIN:DAYLIGHT
TZOFFSETFROM:-0500
TZOFFSETTO:-0400
TZNAME:EDT
DTSTART:20230312T070000
END:DAYLIGHT
BEGIN:STANDARD
TZOFFSETFROM:-0400
TZOFFSETTO:-0500
TZNAME:EST
DTSTART:20231105T060000
END:STANDARD
END:VTIMEZONE
BEGIN:VEVENT
DTSTART;TZID=America/New_York:20230507T130000
DTEND;TZID=America/New_York:20230507T150000
DTSTAMP:20260421T115655
CREATED:20230331T183143Z
LAST-MODIFIED:20230331T183143Z
UID:10020834-1683464400-1683471600@newtonculture.org
SUMMARY:Newton Art Association: Opening Reception
DESCRIPTION:
URL:https://newtonculture.org/event/newton-art-association-opening-reception/
LOCATION:The Allen Center\, 35 Webster St\, WEST NEWTON\, MA\, 02465\, United States
ORGANIZER;CN="Newton Art Association":MAILTO:info@newtonartassociation.com
END:VEVENT
BEGIN:VEVENT
DTSTART;TZID=America/New_York:20230507T130000
DTEND;TZID=America/New_York:20230507T150000
DTSTAMP:20260421T115655
CREATED:20230508T172626Z
LAST-MODIFIED:20230508T172626Z
UID:10020843-1683464400-1683471600@newtonculture.org
SUMMARY:Newton Piano Summit 2023
DESCRIPTION:The Newton Piano Summit 2023 season is on with 8 concerts running for two consecutive weekends in May. This season will feature Classical\, Latin\, Jazz\, and more at Second Church in Newton.  Admission is free and donations are welcome.
URL:https://newtonculture.org/event/newton-piano-summit-2023/2023-05-07/
LOCATION:Second Church in Newton\, 60 Highland St.\, West Newton\, MA\, 02465\, United States
ATTACH;FMTTYPE=image/jpeg:https://newtonculture.org/wp-content/uploads/2023/05/unnamed-1.jpg
ORGANIZER;CN="Newton Piano Summit":MAILTO:cpitts@wabanimprovement.org
END:VEVENT
BEGIN:VEVENT
DTSTART;TZID=America/New_York:20230507T160000
DTEND;TZID=America/New_York:20230507T170000
DTSTAMP:20260421T115655
CREATED:20230310T180900Z
LAST-MODIFIED:20230310T180900Z
UID:10020794-1683475200-1683478800@newtonculture.org
SUMMARY:Newton Family Singers Concert
DESCRIPTION:Spring 2023 Concert: Bruce Springsteen\nPlease join us Sunday\, May 7\, 4:00 pm for the next Newton Family Singers concert!  This season we will be performing the music of one of the greatest songwriters of all time\, iconic “rock ‘n’ roll poet”\, Bruce Springsteen! \nMore details coming soon\, but for now save-the-date!
URL:https://newtonculture.org/event/newton-family-singers-concert/
LOCATION:MA
ATTACH;FMTTYPE=image/jpeg:https://newtonculture.org/wp-content/uploads/2023/03/5031172-1.jpg
END:VEVENT
BEGIN:VEVENT
DTSTART;TZID=America/New_York:20230507T160000
DTEND;TZID=America/New_York:20230507T170000
DTSTAMP:20260421T115655
CREATED:20230426T153043Z
LAST-MODIFIED:20230426T153043Z
UID:10020836-1683475200-1683478800@newtonculture.org
SUMMARY:Cappella Clausura presents Three Women
DESCRIPTION:Three Women\, Historic Season Finale!\n\n\nFor the final program of our 2022-2023 season\, we are honored to present a 20th-anniversary celebration of the Boston Women’s Memorial. \nJoin us for this landmark event as we present world-premiere compositions inspired by the memorial’s subjects and learn about the history of the sculpture from the artists and activists who made it happen! \n\n\nWORLD PREMIERE MUSIC BY \nMELIKA FITZHUGH\, EMILY LAU\, & INES VELASCO \n\n\n\nPRESENTATIONS BY \nMEREDITH BERGMANN\, SCULPTOR \n& SUSAN WILSON\, PUBLIC HISTORIAN \n\n\nPresented by Cappella Clausura\, with Suffrage100MA\, Boston Women’s Heritage Trail\, Sculptor Meredith Bergmann\, and Historian Susan Wilson
URL:https://newtonculture.org/event/cappella-clausura-presents-three-women/
LOCATION:MA
CATEGORIES:Culture and Education,Free Event,Music
ATTACH;FMTTYPE=image/png:https://newtonculture.org/wp-content/uploads/2023/04/3women.png
ORGANIZER;CN="Cappella Clausura":MAILTO:manager@clausura.org
END:VEVENT
END:VCALENDAR