BEGIN:VCALENDAR
VERSION:2.0
PRODID:-//Newton Cultural Alliance - ECPv6.13.2.1//NONSGML v1.0//EN
CALSCALE:GREGORIAN
METHOD:PUBLISH
X-WR-CALNAME:Newton Cultural Alliance
X-ORIGINAL-URL:https://newtonculture.org
X-WR-CALDESC:Events for Newton Cultural Alliance
REFRESH-INTERVAL;VALUE=DURATION:PT1H
X-Robots-Tag:noindex
X-PUBLISHED-TTL:PT1H
BEGIN:VTIMEZONE
TZID:America/New_York
BEGIN:DAYLIGHT
TZOFFSETFROM:-0500
TZOFFSETTO:-0400
TZNAME:EDT
DTSTART:20230312T070000
END:DAYLIGHT
BEGIN:STANDARD
TZOFFSETFROM:-0400
TZOFFSETTO:-0500
TZNAME:EST
DTSTART:20231105T060000
END:STANDARD
END:VTIMEZONE
BEGIN:VEVENT
DTSTART;TZID=America/New_York:20230508T090000
DTEND;TZID=America/New_York:20230508T150000
DTSTAMP:20260421T115112
CREATED:20230508T173737Z
LAST-MODIFIED:20230508T173737Z
UID:10020848-1683536400-1683558000@newtonculture.org
SUMMARY:All Newton Music School presents Music in May
DESCRIPTION:Music in May\nSaturday\, May 21\, 9:00 pm – 3:00 pm \nEach May\, All Newton Music School students are given an opportunity to perform in front of their families\, friends\, and community members at this annual music festival. For over 30 years\, ANMS has held Music in May\, an event that brings the ANMS community together to participate in classical music performances\, musical theater shows\, outdoor rock band concerts\, and more.
URL:https://newtonculture.org/event/all-newton-music-school-presents-music-in-may-3/
LOCATION:All Newton Music School\, 321 Chestnut St\, West Newton\, MA\, 02465\, United States
ATTACH;FMTTYPE=image/png:https://newtonculture.org/wp-content/uploads/2023/05/MIMlogo-1.png
END:VEVENT
END:VCALENDAR