BEGIN:VCALENDAR
VERSION:2.0
PRODID:-//Newton Cultural Alliance - ECPv6.13.2.1//NONSGML v1.0//EN
CALSCALE:GREGORIAN
METHOD:PUBLISH
X-WR-CALNAME:Newton Cultural Alliance
X-ORIGINAL-URL:https://newtonculture.org
X-WR-CALDESC:Events for Newton Cultural Alliance
REFRESH-INTERVAL;VALUE=DURATION:PT1H
X-Robots-Tag:noindex
X-PUBLISHED-TTL:PT1H
BEGIN:VTIMEZONE
TZID:America/New_York
BEGIN:DAYLIGHT
TZOFFSETFROM:-0500
TZOFFSETTO:-0400
TZNAME:EDT
DTSTART:20230312T070000
END:DAYLIGHT
BEGIN:STANDARD
TZOFFSETFROM:-0400
TZOFFSETTO:-0500
TZNAME:EST
DTSTART:20231105T060000
END:STANDARD
END:VTIMEZONE
BEGIN:VEVENT
DTSTART;TZID=America/New_York:20230520T090000
DTEND;TZID=America/New_York:20230520T150000
DTSTAMP:20260421T130500
CREATED:20230517T160940Z
LAST-MODIFIED:20230517T160940Z
UID:10020850-1684573200-1684594800@newtonculture.org
SUMMARY:All Newton Music School presents Music in May
DESCRIPTION:*On Saturday\, May 20th from 9:00 pm – 3:00 pm\, All Newton Music School students are given an opportunity to perform in front of their families\, friends\, and community members at this annual music festival. For over 30 years\, ANMS has held Music in May\, an event that brings the ANMS community together to participate in classical music performances\, musical theater shows\, outdoor rock band concerts\, and more. You May visit the website for more musical info. \n 
URL:https://newtonculture.org/event/all-newton-music-school-presents-music-in-may-4/
LOCATION:All Newton Music School\, 321 Chestnut St\, West Newton\, MA\, 02465\, United States
ATTACH;FMTTYPE=image/png:https://newtonculture.org/wp-content/uploads/2023/05/MIMlogo-1.png
END:VEVENT
BEGIN:VEVENT
DTSTART;TZID=America/New_York:20230520T170000
DTEND;TZID=America/New_York:20230520T180000
DTSTAMP:20260421T130500
CREATED:20230524T130749Z
LAST-MODIFIED:20230524T130802Z
UID:10020852-1684602000-1684605600@newtonculture.org
SUMMARY:Suzuki Showcase Recitals
DESCRIPTION:Suzuki Showcase Recitals \nSun 5/14\, Sat 5/20\, and Sun 6/4 at 5-6 pm. Free. The Union Church\, Waban. \nSuzuki School of Newton will showcase its most advanced students in a series of three recitals. “Suzuki Showcase Recitals” is a unique opportunity for the general public to enjoy a music event open to all generations of audience members\, featuring specially selected top students of the school. Held in the Union Church in the heart of Waban\, this venue is fully accessible and in close proximity to the MBTA Waban station. In-person event and online viewing also available via Facebook livestream. \n 
URL:https://newtonculture.org/event/13973/2023-05-20/
LOCATION:Union Church in Waban\, 14 Collins Rd\, Waban\, MA\, 02468\, United States
CATEGORIES:Community Event,Family Friendly,Music
ATTACH;FMTTYPE=image/png:https://newtonculture.org/wp-content/uploads/2023/05/ShowcaseRecitals23Flyer1.png
ORGANIZER;CN="Suzuki School of Newton":MAILTO:email@suzukinewton.org
END:VEVENT
END:VCALENDAR