BEGIN:VCALENDAR
VERSION:2.0
PRODID:-//Newton Cultural Alliance - ECPv6.13.2.1//NONSGML v1.0//EN
CALSCALE:GREGORIAN
METHOD:PUBLISH
X-ORIGINAL-URL:https://newtonculture.org
X-WR-CALDESC:Events for Newton Cultural Alliance
REFRESH-INTERVAL;VALUE=DURATION:PT1H
X-Robots-Tag:noindex
X-PUBLISHED-TTL:PT1H
BEGIN:VTIMEZONE
TZID:America/New_York
BEGIN:DAYLIGHT
TZOFFSETFROM:-0500
TZOFFSETTO:-0400
TZNAME:EDT
DTSTART:20230312T070000
END:DAYLIGHT
BEGIN:STANDARD
TZOFFSETFROM:-0400
TZOFFSETTO:-0500
TZNAME:EST
DTSTART:20231105T060000
END:STANDARD
END:VTIMEZONE
BEGIN:VEVENT
DTSTART;TZID=America/New_York:20230521T120000
DTEND;TZID=America/New_York:20230521T170000
DTSTAMP:20260421T114616
CREATED:20230508T173451Z
LAST-MODIFIED:20230508T173451Z
UID:10020847-1684670400-1684688400@newtonculture.org
SUMMARY:Historic Newton House Tour
DESCRIPTION:2023 Newton House Tour\nSaturday\, May 21\, 12:00 – 5:00 pmHistoric Newton’s annual Newton House Tour is back in person for its 40th year. Tourgoers are invited to look inside remarkable historic properties not usually open to the public. Each was carefully selected to show historic preservation and creative adaptations.
URL:https://newtonculture.org/event/historic-newton-house-tour/
LOCATION:MA
ATTACH;FMTTYPE=image/jpeg:https://newtonculture.org/wp-content/uploads/2023/05/638163100881500000.jpeg
END:VEVENT
BEGIN:VEVENT
DTSTART;TZID=America/New_York:20230521T150000
DTEND;TZID=America/New_York:20230521T170000
DTSTAMP:20260421T114616
CREATED:20230118T170653Z
LAST-MODIFIED:20230511T152723Z
UID:10020774-1684681200-1684688400@newtonculture.org
SUMMARY:New Phil presents Classics III
DESCRIPTION:New Phil Reawakens!\n2022 – 2023 | 28th season\nAll programs are subject to change. \nMay there be Peace\nMay 21st\, 3-5 PM \nWilliam Grant Still: Mother and Child for String Orchestra \nMendelssohn: Violin Concerto in E Minor – Julianne Lee\, violin \nTchaikovsky: Symphony #5 \n  \nBuy your tickets here! \n  \nVenue Information\nBrown Middle School \n125 Meadowbrook Road \nNewton Centre\, MA 02459
URL:https://newtonculture.org/event/new-phil-presents-classics-iii/
LOCATION:MA
ATTACH;FMTTYPE=image/jpeg:https://newtonculture.org/wp-content/uploads/2019/08/new-philharmonia.jpg
ORGANIZER;CN="New Philharmonia Orchestra":MAILTO:info@newphil.org
END:VEVENT
BEGIN:VEVENT
DTSTART;TZID=America/New_York:20230521T150000
DTEND;TZID=America/New_York:20230521T170000
DTSTAMP:20260421T114616
CREATED:20230504T134827Z
LAST-MODIFIED:20230504T134827Z
UID:10020839-1684681200-1684688400@newtonculture.org
SUMMARY:Pro Arte presents Dancing Through the Centuries
DESCRIPTION:Dancing through the Centuries\nSunday\, May 21\, 2023 3pm\nEarl Lee\, conductor \nPro Arte and Earl Lee\, Assistant Conductor of the Boston Symphony Orchestra\, have crafted a fascinating program based on music and movement stretching back six hundred years. Béla Bartók wrote that he would raise the folk music in and around his native Hungary “to the level of art song.” His popular Romanian Folk Dances are evocative arrangements of traditional Transylvanian fiddle tunes. The soulful songs of Southern chain gangs inspired Kenji Bunch’s powerful Supermaximum. Battalia\, by Baroque composer Heinrich Ignaz Franz von Biber\, is a bracing depiction of a battle that requires unconventional techniques from its string players. As the first Black woman to be widely recognized as a symphonic composer\, Florence Price was a pioneer in American music. Her Andante moderato is a luminous arrangement of the slow movement from one of her string quartets. In music\, La Follia—Italian for “folly”—refers to a frenzied peasant dance from fifteenth-century Portugal. The dance’s catchy chord progression later spread throughout Europe\, forming the basis for countless compositions\, including a set of variations for solo violin by Arcangelo Corelli\, which was later arranged by his pupil Francesco Geminiani for string orchestra. In her La Follia Variations\, contemporary composer Michi Wiancko takes this a step further\, reflecting Geminiani’s Baroque concerto grosso in a dreamy twenty-first-century mirror. \nPROGRAM\nBéla Bartók Romanian Dances\nKenji Bunch Supermaximum\nHeinrich Ignaz Franz von Biber Battalia\nFlorence Price Andante moderato\nArcangelo Corelli/Francesco Geminiani\, Arr. Michi Wiankco La Follia Variations
URL:https://newtonculture.org/event/pro-arte-presents-dancing-through-the-centuries/
LOCATION:Second Church in Newton\, 60 Highland St.\, West Newton\, MA\, 02465\, United States
CATEGORIES:Music
ATTACH;FMTTYPE=image/png:https://newtonculture.org/wp-content/uploads/2023/05/PACO_5-21_1920X1080.png
END:VEVENT
END:VCALENDAR