BEGIN:VCALENDAR
VERSION:2.0
PRODID:-//Newton Cultural Alliance - ECPv6.13.2.1//NONSGML v1.0//EN
CALSCALE:GREGORIAN
METHOD:PUBLISH
X-ORIGINAL-URL:https://newtonculture.org
X-WR-CALDESC:Events for Newton Cultural Alliance
REFRESH-INTERVAL;VALUE=DURATION:PT1H
X-Robots-Tag:noindex
X-PUBLISHED-TTL:PT1H
BEGIN:VTIMEZONE
TZID:America/New_York
BEGIN:DAYLIGHT
TZOFFSETFROM:-0500
TZOFFSETTO:-0400
TZNAME:EDT
DTSTART:20230312T070000
END:DAYLIGHT
BEGIN:STANDARD
TZOFFSETFROM:-0400
TZOFFSETTO:-0500
TZNAME:EST
DTSTART:20231105T060000
END:STANDARD
END:VTIMEZONE
BEGIN:VEVENT
DTSTART;TZID=America/New_York:20230526T080000
DTEND;TZID=America/New_York:20230529T170000
DTSTAMP:20260421T115838
CREATED:20230426T153602Z
LAST-MODIFIED:20230426T153602Z
UID:10020838-1685088000-1685379600@newtonculture.org
SUMMARY:Amherst Early Music presents A Memorial Day Weekend Workshop
DESCRIPTION:Please join us for our wonderful Memorial Day Weekend Workshop!\nMay 26-29\, at Wisdom House in Litchfield\, Connecticut. Registration now open! \nDirected by Valerie Horst\, with faculty: Deborah Booth\, Eric Haas\, Valerie Horst\, Lawrence Lipnik\, Sarah Mead\, Patricia Petersen\, and Gwyn Roberts.
URL:https://newtonculture.org/event/amherst-early-music-presents-a-memorial-day-weekend-workshop/
LOCATION:MA
CATEGORIES:Culture and Education,Music
END:VEVENT
BEGIN:VEVENT
DTSTART;TZID=America/New_York:20230527T080000
DTEND;TZID=America/New_York:20230527T170000
DTSTAMP:20260421T115838
CREATED:20230602T153917Z
LAST-MODIFIED:20230602T153917Z
UID:10019572-1685174400-1685206800@newtonculture.org
SUMMARY:New Art Center presents Over the Rainbow
DESCRIPTION:Over the Rainbow will celebrate pride in our intergenerational connections— expressing from a queer perspective what is safe for us and for our youth. Including individual and collaborative work from children to elders of our beautiful community\, our goal is to encourage sharing resources between young people with energy and fresh ideas and the experiences and developed thoughts of our older generation. In tracing our queer lineage\, we are resisting our history being pushed to the back of the closet. \nFree and open to the public \nOpening Reception\nThursday\, May 25\, 2023\n6:00 – 8:00 PM
URL:https://newtonculture.org/event/new-art-center-presents-over-the-rainbow-2/2023-05-27/
LOCATION:MA
CATEGORIES:Visual Arts
ATTACH;FMTTYPE=image/png:https://newtonculture.org/wp-content/uploads/2023/05/over-the-rainbow.png
ORGANIZER;CN="Amherst Early Music":MAILTO:info@amherstearlymusic.org
END:VEVENT
BEGIN:VEVENT
DTSTART;TZID=America/New_York:20230527T193000
DTEND;TZID=America/New_York:20230527T210000
DTSTAMP:20260421T115838
CREATED:20230508T174058Z
LAST-MODIFIED:20230508T174058Z
UID:10020849-1685215800-1685221200@newtonculture.org
SUMMARY:Newton Baroque presents Passions in the Palace: Concerti for a King
DESCRIPTION:Passions in the Palace: Concerti for a King\nSaturday\, May 27\, 7:30 pm \nNewton Baroque presents a concert focusing on concerti by Johann Joachim Quantz on the 250th anniversary of his death. Quantz was the most important flutist/composer of the 18th Century and made a lasting impact on music in general.
URL:https://newtonculture.org/event/newton-baroque-presents-passions-in-the-palace-concerti-for-a-king/
LOCATION:Second Church in Newton\, 60 Highland St.\, West Newton\, MA\, 02465\, United States
ATTACH;FMTTYPE=image/png:https://newtonculture.org/wp-content/uploads/2019/11/Logos-500px-19-newtonbaroque.png
END:VEVENT
END:VCALENDAR