BEGIN:VCALENDAR
VERSION:2.0
PRODID:-//Newton Cultural Alliance - ECPv6.13.2.1//NONSGML v1.0//EN
CALSCALE:GREGORIAN
METHOD:PUBLISH
X-WR-CALNAME:Newton Cultural Alliance
X-ORIGINAL-URL:https://newtonculture.org
X-WR-CALDESC:Events for Newton Cultural Alliance
REFRESH-INTERVAL;VALUE=DURATION:PT1H
X-Robots-Tag:noindex
X-PUBLISHED-TTL:PT1H
BEGIN:VTIMEZONE
TZID:America/New_York
BEGIN:DAYLIGHT
TZOFFSETFROM:-0500
TZOFFSETTO:-0400
TZNAME:EDT
DTSTART:20230312T070000
END:DAYLIGHT
BEGIN:STANDARD
TZOFFSETFROM:-0400
TZOFFSETTO:-0500
TZNAME:EST
DTSTART:20231105T060000
END:STANDARD
END:VTIMEZONE
BEGIN:VEVENT
DTSTART;TZID=America/New_York:20230601T080000
DTEND;TZID=America/New_York:20230601T170000
DTSTAMP:20260421T115600
CREATED:20230602T153917Z
LAST-MODIFIED:20230602T153917Z
UID:10019577-1685606400-1685638800@newtonculture.org
SUMMARY:New Art Center presents Over the Rainbow
DESCRIPTION:Over the Rainbow will celebrate pride in our intergenerational connections— expressing from a queer perspective what is safe for us and for our youth. Including individual and collaborative work from children to elders of our beautiful community\, our goal is to encourage sharing resources between young people with energy and fresh ideas and the experiences and developed thoughts of our older generation. In tracing our queer lineage\, we are resisting our history being pushed to the back of the closet. \nFree and open to the public \nOpening Reception\nThursday\, May 25\, 2023\n6:00 – 8:00 PM
URL:https://newtonculture.org/event/new-art-center-presents-over-the-rainbow-2/2023-06-01/
LOCATION:MA
CATEGORIES:Visual Arts
ATTACH;FMTTYPE=image/png:https://newtonculture.org/wp-content/uploads/2023/05/over-the-rainbow.png
ORGANIZER;CN="Amherst Early Music":MAILTO:info@amherstearlymusic.org
END:VEVENT
BEGIN:VEVENT
DTSTART;TZID=America/New_York:20230601T120000
DTEND;TZID=America/New_York:20230601T140000
DTSTAMP:20260421T115600
CREATED:20230524T131722Z
LAST-MODIFIED:20230524T131722Z
UID:10020855-1685620800-1685628000@newtonculture.org
SUMMARY:Newton Cultural Alliance and Newton Art Association present the Allen Center Spring Show
DESCRIPTION:Allen Center Spring Show \nThe Newton Art Association presents a spring group show at the Allen Center Gallery now through June 3rd. This exhibition will have opening hours on Thursday\, June 1st from 12:00-2:00 pm.
URL:https://newtonculture.org/event/newton-cultural-alliance-and-newton-art-association-present-the-allen-center-spring-show/2023-06-01/
LOCATION:The Allen Center\, 35 Webster St\, WEST NEWTON\, MA\, 02465\, United States
ATTACH;FMTTYPE=image/png:https://newtonculture.org/wp-content/uploads/2023/05/NAA-spring-show.png
ORGANIZER;CN="Newton Art Association":MAILTO:info@newtonartassociation.com
END:VEVENT
END:VCALENDAR