BEGIN:VCALENDAR
VERSION:2.0
PRODID:-//Newton Cultural Alliance - ECPv6.13.2.1//NONSGML v1.0//EN
CALSCALE:GREGORIAN
METHOD:PUBLISH
X-ORIGINAL-URL:https://newtonculture.org
X-WR-CALDESC:Events for Newton Cultural Alliance
REFRESH-INTERVAL;VALUE=DURATION:PT1H
X-Robots-Tag:noindex
X-PUBLISHED-TTL:PT1H
BEGIN:VTIMEZONE
TZID:America/New_York
BEGIN:DAYLIGHT
TZOFFSETFROM:-0500
TZOFFSETTO:-0400
TZNAME:EDT
DTSTART:20230312T070000
END:DAYLIGHT
BEGIN:STANDARD
TZOFFSETFROM:-0400
TZOFFSETTO:-0500
TZNAME:EST
DTSTART:20231105T060000
END:STANDARD
END:VTIMEZONE
BEGIN:VEVENT
DTSTART;TZID=America/New_York:20230603T080000
DTEND;TZID=America/New_York:20230603T170000
DTSTAMP:20260421T115352
CREATED:20230602T153917Z
LAST-MODIFIED:20230602T153917Z
UID:10019579-1685779200-1685811600@newtonculture.org
SUMMARY:New Art Center presents Over the Rainbow
DESCRIPTION:Over the Rainbow will celebrate pride in our intergenerational connections— expressing from a queer perspective what is safe for us and for our youth. Including individual and collaborative work from children to elders of our beautiful community\, our goal is to encourage sharing resources between young people with energy and fresh ideas and the experiences and developed thoughts of our older generation. In tracing our queer lineage\, we are resisting our history being pushed to the back of the closet. \nFree and open to the public \nOpening Reception\nThursday\, May 25\, 2023\n6:00 – 8:00 PM
URL:https://newtonculture.org/event/new-art-center-presents-over-the-rainbow-2/2023-06-03/
LOCATION:MA
CATEGORIES:Visual Arts
ATTACH;FMTTYPE=image/png:https://newtonculture.org/wp-content/uploads/2023/05/over-the-rainbow.png
ORGANIZER;CN="Amherst Early Music":MAILTO:info@amherstearlymusic.org
END:VEVENT
BEGIN:VEVENT
DTSTART;TZID=America/New_York:20230603T100000
DTEND;TZID=America/New_York:20230603T110000
DTSTAMP:20260421T115352
CREATED:20230602T153436Z
LAST-MODIFIED:20230602T153436Z
UID:10019563-1685786400-1685790000@newtonculture.org
SUMMARY:New Art Center presents Drag Queen Story Hour
DESCRIPTION:New Art Center hosts Drag Queen Story Hour with Missy Steak in celebration of Pride Month. Parents and children of all ages are welcome to come.
URL:https://newtonculture.org/event/new-art-center-presents-drag-queen-story-hour/
LOCATION:New Art Center\, 61 Washington Park\, Newton\, MA\, 02460\, United States
CATEGORIES:Culture and Education,Family Friendly
ATTACH;FMTTYPE=image/jpeg:https://newtonculture.org/wp-content/uploads/2023/06/MissySteak_Feb_2021.jpeg
ORGANIZER;CN="New Art Center":MAILTO:info@newartcenter.org
END:VEVENT
BEGIN:VEVENT
DTSTART;TZID=America/New_York:20230603T143000
DTEND;TZID=America/New_York:20230603T180000
DTSTAMP:20260421T115352
CREATED:20230602T153244Z
LAST-MODIFIED:20230602T153244Z
UID:10019561-1685802600-1685815200@newtonculture.org
SUMMARY:Newton PorchFest
DESCRIPTION:Suzuki School of Newton celebrates Newton PorchFest\, an afternoon of free music performed outside of people’s homes. We welcome you to a community event to share the joy of playing and listening to music.
URL:https://newtonculture.org/event/newton-porchfest/
LOCATION:MA
CATEGORIES:Community Event,Music
ATTACH;FMTTYPE=image/png:https://newtonculture.org/wp-content/uploads/2023/06/Logo-White.png
END:VEVENT
END:VCALENDAR