BEGIN:VCALENDAR
VERSION:2.0
PRODID:-//Newton Cultural Alliance - ECPv6.13.2.1//NONSGML v1.0//EN
CALSCALE:GREGORIAN
METHOD:PUBLISH
X-ORIGINAL-URL:https://newtonculture.org
X-WR-CALDESC:Events for Newton Cultural Alliance
REFRESH-INTERVAL;VALUE=DURATION:PT1H
X-Robots-Tag:noindex
X-PUBLISHED-TTL:PT1H
BEGIN:VTIMEZONE
TZID:America/New_York
BEGIN:DAYLIGHT
TZOFFSETFROM:-0500
TZOFFSETTO:-0400
TZNAME:EDT
DTSTART:20230312T070000
END:DAYLIGHT
BEGIN:STANDARD
TZOFFSETFROM:-0400
TZOFFSETTO:-0500
TZNAME:EST
DTSTART:20231105T060000
END:STANDARD
END:VTIMEZONE
BEGIN:VEVENT
DTSTART;TZID=America/New_York:20230608T080000
DTEND;TZID=America/New_York:20230608T170000
DTSTAMP:20260421T122854
CREATED:20230602T153917Z
LAST-MODIFIED:20230602T153917Z
UID:10019584-1686211200-1686243600@newtonculture.org
SUMMARY:New Art Center presents Over the Rainbow
DESCRIPTION:Over the Rainbow will celebrate pride in our intergenerational connections— expressing from a queer perspective what is safe for us and for our youth. Including individual and collaborative work from children to elders of our beautiful community\, our goal is to encourage sharing resources between young people with energy and fresh ideas and the experiences and developed thoughts of our older generation. In tracing our queer lineage\, we are resisting our history being pushed to the back of the closet. \nFree and open to the public \nOpening Reception\nThursday\, May 25\, 2023\n6:00 – 8:00 PM
URL:https://newtonculture.org/event/new-art-center-presents-over-the-rainbow-2/2023-06-08/
LOCATION:MA
CATEGORIES:Visual Arts
ATTACH;FMTTYPE=image/png:https://newtonculture.org/wp-content/uploads/2023/05/over-the-rainbow.png
ORGANIZER;CN="Amherst Early Music":MAILTO:info@amherstearlymusic.org
END:VEVENT
BEGIN:VEVENT
DTSTART;TZID=America/New_York:20230608T180000
DTEND;TZID=America/New_York:20230608T190000
DTSTAMP:20260421T122854
CREATED:20230602T151612Z
LAST-MODIFIED:20230602T151953Z
UID:10020857-1686247200-1686250800@newtonculture.org
SUMMARY:Historic Newton presents Walking Tour: Sports Legends at Newton Cemetery
DESCRIPTION:Throughout history\, Newton’s schools\, public playing fields\, and parks have spawned many star athletes. Stroll through Newton Cemetery & Arboretum to see the final resting places and learn more about the lives of tennis great Hazel Hotchkiss Wightman\, baseball legend Dom DiMaggio\, golf course designer Donald Ross\, and many other sports legends. Registration\, $20 per adult and $15 for Historic Newton members is required. Register here.
URL:https://newtonculture.org/event/historic-newton-presents-walking-tour-sports-legends-at-newton-cemetery/
LOCATION:MA
CATEGORIES:Culture and Education
ATTACH;FMTTYPE=image/png:https://newtonculture.org/wp-content/uploads/2023/06/Untitled-design-2023-06-02T111506.182.png
END:VEVENT
BEGIN:VEVENT
DTSTART;TZID=America/New_York:20230608T193000
DTEND;TZID=America/New_York:20230608T210000
DTSTAMP:20260421T122854
CREATED:20230602T153036Z
LAST-MODIFIED:20230602T153036Z
UID:10020863-1686252600-1686258000@newtonculture.org
SUMMARY:Theatre Ink presents Playwrights ' Festival
DESCRIPTION:Theatre Ink presents The 16th Annual Playwrights ‘ Festival in the Little Theatre at Newton North High School. Coordinated by Ella Reid and Oliver Perlo this annual event is an opportunity to enjoy ten-minute plays from the minds of NNHS students.
URL:https://newtonculture.org/event/theatre-ink-presents-playwrights-festival/2023-06-08/
LOCATION:Newton North High School\, 457 Walnut St\, Newton\, MA\, 02460\, United States
CATEGORIES:Theater
ATTACH;FMTTYPE=image/jpeg:https://newtonculture.org/wp-content/uploads/2023/06/287695560_3209944539277914_3558701091938946663_n.jpg
END:VEVENT
BEGIN:VEVENT
DTSTART;TZID=America/New_York:20230608T193000
DTEND;TZID=America/New_York:20230608T213000
DTSTAMP:20260421T122854
CREATED:20230322T154328Z
LAST-MODIFIED:20230322T154328Z
UID:10020804-1686252600-1686259800@newtonculture.org
SUMMARY:Zamir presents Viva L’Italia
DESCRIPTION:Celebrating four centuries of music by Italian Jews and the quatercentenary of the publication of Salamone Rossi’s “Ha-Shirim.”\nThursday\, June 8\, 7:30 pm\, Temple Emanuel\, Newton\, MA \nPurchase tickets NOW.
URL:https://newtonculture.org/event/zamir-presents-viva-litalia/
LOCATION:Temple Emanuel\, 385 Ward Street\, Newton\, MA\, 02459\, United States
ATTACH;FMTTYPE=image/jpeg:https://newtonculture.org/wp-content/uploads/2023/03/2160-x-1080-Viva-LItalia-sans-text.jpeg
ORGANIZER;CN="Zamir Chorale of Boston":MAILTO:manager@zamir.org
END:VEVENT
END:VCALENDAR