BEGIN:VCALENDAR
VERSION:2.0
PRODID:-//Newton Cultural Alliance - ECPv6.13.2.1//NONSGML v1.0//EN
CALSCALE:GREGORIAN
METHOD:PUBLISH
X-WR-CALNAME:Newton Cultural Alliance
X-ORIGINAL-URL:https://newtonculture.org
X-WR-CALDESC:Events for Newton Cultural Alliance
REFRESH-INTERVAL;VALUE=DURATION:PT1H
X-Robots-Tag:noindex
X-PUBLISHED-TTL:PT1H
BEGIN:VTIMEZONE
TZID:America/New_York
BEGIN:DAYLIGHT
TZOFFSETFROM:-0500
TZOFFSETTO:-0400
TZNAME:EDT
DTSTART:20230312T070000
END:DAYLIGHT
BEGIN:STANDARD
TZOFFSETFROM:-0400
TZOFFSETTO:-0500
TZNAME:EST
DTSTART:20231105T060000
END:STANDARD
END:VTIMEZONE
BEGIN:VEVENT
DTSTART;TZID=America/New_York:20230609T080000
DTEND;TZID=America/New_York:20230609T170000
DTSTAMP:20260421T135334
CREATED:20230602T153917Z
LAST-MODIFIED:20230602T153917Z
UID:10019585-1686297600-1686330000@newtonculture.org
SUMMARY:New Art Center presents Over the Rainbow
DESCRIPTION:Over the Rainbow will celebrate pride in our intergenerational connections— expressing from a queer perspective what is safe for us and for our youth. Including individual and collaborative work from children to elders of our beautiful community\, our goal is to encourage sharing resources between young people with energy and fresh ideas and the experiences and developed thoughts of our older generation. In tracing our queer lineage\, we are resisting our history being pushed to the back of the closet. \nFree and open to the public \nOpening Reception\nThursday\, May 25\, 2023\n6:00 – 8:00 PM
URL:https://newtonculture.org/event/new-art-center-presents-over-the-rainbow-2/2023-06-09/
LOCATION:MA
CATEGORIES:Visual Arts
ATTACH;FMTTYPE=image/png:https://newtonculture.org/wp-content/uploads/2023/05/over-the-rainbow.png
ORGANIZER;CN="Amherst Early Music":MAILTO:info@amherstearlymusic.org
END:VEVENT
BEGIN:VEVENT
DTSTART;TZID=America/New_York:20230609T193000
DTEND;TZID=America/New_York:20230609T210000
DTSTAMP:20260421T135334
CREATED:20230602T153036Z
LAST-MODIFIED:20230602T153036Z
UID:10020864-1686339000-1686344400@newtonculture.org
SUMMARY:Theatre Ink presents Playwrights ' Festival
DESCRIPTION:Theatre Ink presents The 16th Annual Playwrights ‘ Festival in the Little Theatre at Newton North High School. Coordinated by Ella Reid and Oliver Perlo this annual event is an opportunity to enjoy ten-minute plays from the minds of NNHS students.
URL:https://newtonculture.org/event/theatre-ink-presents-playwrights-festival/2023-06-09/
LOCATION:Newton North High School\, 457 Walnut St\, Newton\, MA\, 02460\, United States
CATEGORIES:Theater
ATTACH;FMTTYPE=image/jpeg:https://newtonculture.org/wp-content/uploads/2023/06/287695560_3209944539277914_3558701091938946663_n.jpg
END:VEVENT
END:VCALENDAR