BEGIN:VCALENDAR
VERSION:2.0
PRODID:-//Newton Cultural Alliance - ECPv6.13.2.1//NONSGML v1.0//EN
CALSCALE:GREGORIAN
METHOD:PUBLISH
X-WR-CALNAME:Newton Cultural Alliance
X-ORIGINAL-URL:https://newtonculture.org
X-WR-CALDESC:Events for Newton Cultural Alliance
REFRESH-INTERVAL;VALUE=DURATION:PT1H
X-Robots-Tag:noindex
X-PUBLISHED-TTL:PT1H
BEGIN:VTIMEZONE
TZID:America/New_York
BEGIN:DAYLIGHT
TZOFFSETFROM:-0500
TZOFFSETTO:-0400
TZNAME:EDT
DTSTART:20230312T070000
END:DAYLIGHT
BEGIN:STANDARD
TZOFFSETFROM:-0400
TZOFFSETTO:-0500
TZNAME:EST
DTSTART:20231105T060000
END:STANDARD
END:VTIMEZONE
BEGIN:VEVENT
DTSTART;TZID=America/New_York:20230611T080000
DTEND;TZID=America/New_York:20230611T170000
DTSTAMP:20260421T122749
CREATED:20230602T153917Z
LAST-MODIFIED:20230602T153917Z
UID:10019587-1686470400-1686502800@newtonculture.org
SUMMARY:New Art Center presents Over the Rainbow
DESCRIPTION:Over the Rainbow will celebrate pride in our intergenerational connections— expressing from a queer perspective what is safe for us and for our youth. Including individual and collaborative work from children to elders of our beautiful community\, our goal is to encourage sharing resources between young people with energy and fresh ideas and the experiences and developed thoughts of our older generation. In tracing our queer lineage\, we are resisting our history being pushed to the back of the closet. \nFree and open to the public \nOpening Reception\nThursday\, May 25\, 2023\n6:00 – 8:00 PM
URL:https://newtonculture.org/event/new-art-center-presents-over-the-rainbow-2/2023-06-11/
LOCATION:MA
CATEGORIES:Visual Arts
ATTACH;FMTTYPE=image/png:https://newtonculture.org/wp-content/uploads/2023/05/over-the-rainbow.png
ORGANIZER;CN="Amherst Early Music":MAILTO:info@amherstearlymusic.org
END:VEVENT
BEGIN:VEVENT
DTSTART;TZID=America/New_York:20230611T150000
DTEND;TZID=America/New_York:20230611T170000
DTSTAMP:20260421T122749
CREATED:20220919T160517Z
LAST-MODIFIED:20230606T152520Z
UID:10020724-1686495600-1686502800@newtonculture.org
SUMMARY:Pro Arte presents Summer Strings
DESCRIPTION:Pro Arte’s new concertmaster brings together members of the string section for a Salon of sublime music to conclude the season. \nDvorak – Viola Quintet Op 97\nMozart – String Quartet K421\nSteven Laven – Angry Water \nJulia Cash\, violin\nMegumi Stohs Lewis\, violin\nAnne Black\, viola\nJean Haig\, viola\nSteve Laven\, cello
URL:https://newtonculture.org/event/pro-arte-presents-salon-4-2/
LOCATION:The Allen Center\, 35 Webster St\, WEST NEWTON\, MA\, 02465\, United States
ATTACH;FMTTYPE=image/jpeg:https://newtonculture.org/wp-content/uploads/2022/09/Screen-Shot-2021-02-03-at-1.21.13-PM-scaled.jpg
END:VEVENT
END:VCALENDAR