BEGIN:VCALENDAR
VERSION:2.0
PRODID:-//Newton Cultural Alliance - ECPv6.13.2.1//NONSGML v1.0//EN
CALSCALE:GREGORIAN
METHOD:PUBLISH
X-ORIGINAL-URL:https://newtonculture.org
X-WR-CALDESC:Events for Newton Cultural Alliance
REFRESH-INTERVAL;VALUE=DURATION:PT1H
X-Robots-Tag:noindex
X-PUBLISHED-TTL:PT1H
BEGIN:VTIMEZONE
TZID:America/New_York
BEGIN:DAYLIGHT
TZOFFSETFROM:-0500
TZOFFSETTO:-0400
TZNAME:EDT
DTSTART:20230312T070000
END:DAYLIGHT
BEGIN:STANDARD
TZOFFSETFROM:-0400
TZOFFSETTO:-0500
TZNAME:EST
DTSTART:20231105T060000
END:STANDARD
END:VTIMEZONE
BEGIN:VEVENT
DTSTART;TZID=America/New_York:20230617T080000
DTEND;TZID=America/New_York:20230617T170000
DTSTAMP:20260421T122856
CREATED:20230602T153917Z
LAST-MODIFIED:20230602T153917Z
UID:10019593-1686988800-1687021200@newtonculture.org
SUMMARY:New Art Center presents Over the Rainbow
DESCRIPTION:Over the Rainbow will celebrate pride in our intergenerational connections— expressing from a queer perspective what is safe for us and for our youth. Including individual and collaborative work from children to elders of our beautiful community\, our goal is to encourage sharing resources between young people with energy and fresh ideas and the experiences and developed thoughts of our older generation. In tracing our queer lineage\, we are resisting our history being pushed to the back of the closet. \nFree and open to the public \nOpening Reception\nThursday\, May 25\, 2023\n6:00 – 8:00 PM
URL:https://newtonculture.org/event/new-art-center-presents-over-the-rainbow-2/2023-06-17/
LOCATION:MA
CATEGORIES:Visual Arts
ATTACH;FMTTYPE=image/png:https://newtonculture.org/wp-content/uploads/2023/05/over-the-rainbow.png
ORGANIZER;CN="Amherst Early Music":MAILTO:info@amherstearlymusic.org
END:VEVENT
BEGIN:VEVENT
DTSTART;TZID=America/New_York:20230617T180000
DTEND;TZID=America/New_York:20230617T220000
DTSTAMP:20260421T122856
CREATED:20230614T153630Z
LAST-MODIFIED:20230614T153630Z
UID:10019652-1687024800-1687039200@newtonculture.org
SUMMARY:The Hyde Community Center presents Summer in the Highlands
DESCRIPTION:The Hyde Community Center\n2023 Summer in the Highlands\nAll Movies and Concerts are free and take place on Hyde Bandstand at Hyde Playground.\nSponsor for all activities on Hyde Bandstand this summer: The Village Bank.\nIn partnership with the Newton Highlands Neighborhood Area Council.\nFor more information 617-201-7088 or director@hydecenter.org or www.hydecenter.org\nHyde on Twitter @hydehighlands. Hyde on Instagram hydehighlands.\nThe Hyde Community Center is a nonprofit corporation. \nFull Schedule available here.
URL:https://newtonculture.org/event/the-hyde-community-center-presents-summer-in-the-highlands/2023-06-17/
LOCATION:Hyde Community Center\, 90 Lincoln St\, Newton Highlands\, MA\, 02461\, United States
CATEGORIES:Community Event,Family Friendly,Film and Media,Free Event,Music
ATTACH;FMTTYPE=image/jpeg:https://newtonculture.org/wp-content/uploads/2023/06/4ab3022b-ee50-f75c-5de8-169828500020.jpg
ORGANIZER;CN="Hyde Community Center":MAILTO:director@hydecenter.org
END:VEVENT
BEGIN:VEVENT
DTSTART;TZID=America/New_York:20230617T183000
DTEND;TZID=America/New_York:20230617T183000
DTSTAMP:20260421T122856
CREATED:20230405T151009Z
LAST-MODIFIED:20230406T163634Z
UID:10019538-1687026600-1687026600@newtonculture.org
SUMMARY:Newton Cultural Alliance: Strawberry Festival!
DESCRIPTION:NCA’s summer celebration with food\, music\, and fun! Come celebrate the return of summer and warm weather! \nSaturday\, June 17th\, 6:30 PM \n35 Webster Street \nNewton\, MA 02465 \n  \nClick here for more info!
URL:https://newtonculture.org/event/newton-cultural-alliance-strawberry-festival/
LOCATION:The Allen Center\, 35 Webster St\, WEST NEWTON\, MA\, 02465\, United States
ORGANIZER;CN="Newton Cultural Alliance":MAILTO:contact@newtonculture.org
END:VEVENT
BEGIN:VEVENT
DTSTART;TZID=America/New_York:20230617T190000
DTEND;TZID=America/New_York:20230617T210000
DTSTAMP:20260421T122856
CREATED:20230322T153248Z
LAST-MODIFIED:20230519T173554Z
UID:10020802-1687028400-1687035600@newtonculture.org
SUMMARY:Highland Glee Club presents Love-In
DESCRIPTION:Highland Glee Club Love-In\n\n\nThe Highland Glee Club presents Love-In 2023. Along with the rock band Firefly\, HGC will be singing songs from the 1960s. These will include music from The Beatles\, Beach Boys\, Crosby\, Stills\, and Nash\, and much more. This is an outdoor concert. So bring a chair and get ready to go back to the fabulous 60s. Admission is free and donations are accepted.
URL:https://newtonculture.org/event/highland-glee-club-presents-love-in/2023-06-17/
LOCATION:Hyde Bandshell\, 90 Lincoln Street\, Newton\, MA\, 02461\, United States
ATTACH;FMTTYPE=image/png:https://newtonculture.org/wp-content/uploads/2023/03/Screenshot-34-e1679499215376.png
END:VEVENT
BEGIN:VEVENT
DTSTART;TZID=America/New_York:20230617T193000
DTEND;TZID=America/New_York:20230617T200000
DTSTAMP:20260421T122856
CREATED:20230602T152626Z
LAST-MODIFIED:20230602T152626Z
UID:10020861-1687030200-1687032000@newtonculture.org
SUMMARY:Newton Baroque presents Intentionally Unpremeditated
DESCRIPTION:Newton Baroque performs again at Second Church in Newton with Intentionally Unpremeditated: Blurring the Boundaries Between Written and Unscripted. Jesse Irons joins Andrus Madsen on harpsichord to improvise violin into and out of written works\, in addition to offering several completely improvised musical experiences.
URL:https://newtonculture.org/event/newton-baroque-presents-intentionally-unpremeditated/
LOCATION:Second Church in Newton\, 60 Highland St.\, West Newton\, MA\, 02465\, United States
END:VEVENT
END:VCALENDAR