BEGIN:VCALENDAR
VERSION:2.0
PRODID:-//Newton Cultural Alliance - ECPv6.13.2.1//NONSGML v1.0//EN
CALSCALE:GREGORIAN
METHOD:PUBLISH
X-WR-CALNAME:Newton Cultural Alliance
X-ORIGINAL-URL:https://newtonculture.org
X-WR-CALDESC:Events for Newton Cultural Alliance
REFRESH-INTERVAL;VALUE=DURATION:PT1H
X-Robots-Tag:noindex
X-PUBLISHED-TTL:PT1H
BEGIN:VTIMEZONE
TZID:America/New_York
BEGIN:DAYLIGHT
TZOFFSETFROM:-0500
TZOFFSETTO:-0400
TZNAME:EDT
DTSTART:20230312T070000
END:DAYLIGHT
BEGIN:STANDARD
TZOFFSETFROM:-0400
TZOFFSETTO:-0500
TZNAME:EST
DTSTART:20231105T060000
END:STANDARD
END:VTIMEZONE
BEGIN:VEVENT
DTSTART;TZID=America/New_York:20230619T080000
DTEND;TZID=America/New_York:20230619T170000
DTSTAMP:20260421T122749
CREATED:20230602T153917Z
LAST-MODIFIED:20230602T153917Z
UID:10019595-1687161600-1687194000@newtonculture.org
SUMMARY:New Art Center presents Over the Rainbow
DESCRIPTION:Over the Rainbow will celebrate pride in our intergenerational connections— expressing from a queer perspective what is safe for us and for our youth. Including individual and collaborative work from children to elders of our beautiful community\, our goal is to encourage sharing resources between young people with energy and fresh ideas and the experiences and developed thoughts of our older generation. In tracing our queer lineage\, we are resisting our history being pushed to the back of the closet. \nFree and open to the public \nOpening Reception\nThursday\, May 25\, 2023\n6:00 – 8:00 PM
URL:https://newtonculture.org/event/new-art-center-presents-over-the-rainbow-2/2023-06-19/
LOCATION:MA
CATEGORIES:Visual Arts
ATTACH;FMTTYPE=image/png:https://newtonculture.org/wp-content/uploads/2023/05/over-the-rainbow.png
ORGANIZER;CN="Amherst Early Music":MAILTO:info@amherstearlymusic.org
END:VEVENT
BEGIN:VEVENT
DTSTART;TZID=America/New_York:20230619T160000
DTEND;TZID=America/New_York:20230619T173000
DTSTAMP:20260421T122749
CREATED:20230614T152903Z
LAST-MODIFIED:20230614T152903Z
UID:10019649-1687190400-1687195800@newtonculture.org
SUMMARY:The Allen Center presents Forever Free
DESCRIPTION:Forever Free\nMonday\, June 19\, 4:00 pm \nThe Allen Center presents Cherry Street Players led by Artist in Residence Allison Yoshie Eldredge in a program commemorating Juneteenth featuring works of Duke Ellington\, Aretha Franklin\, Scott Joplin\, and W. Grant Still. This hybrid program of live and recorded performances\, in the progressive spirit of Nathaniel Allen\, recognizes legendary Black Jazz Musicians and their influence on all genres of music and more. If you missed seeing the great Duke Ellington or Art Tatum during their lifetimes – now is your chance to see and hear digitally recorded Spirio performances of their legendary work.
URL:https://newtonculture.org/event/the-allen-center-presents-forever-free/
LOCATION:The Allen Center\, 35 Webster St\, WEST NEWTON\, MA\, 02465\, United States
CATEGORIES:At the Allen Center,Music,NCA Event
ATTACH;FMTTYPE=image/png:https://newtonculture.org/wp-content/uploads/2023/06/forever-free.png
END:VEVENT
END:VCALENDAR