BEGIN:VCALENDAR
VERSION:2.0
PRODID:-//Newton Cultural Alliance - ECPv6.13.2.1//NONSGML v1.0//EN
CALSCALE:GREGORIAN
METHOD:PUBLISH
X-ORIGINAL-URL:https://newtonculture.org
X-WR-CALDESC:Events for Newton Cultural Alliance
REFRESH-INTERVAL;VALUE=DURATION:PT1H
X-Robots-Tag:noindex
X-PUBLISHED-TTL:PT1H
BEGIN:VTIMEZONE
TZID:America/New_York
BEGIN:DAYLIGHT
TZOFFSETFROM:-0500
TZOFFSETTO:-0400
TZNAME:EDT
DTSTART:20230312T070000
END:DAYLIGHT
BEGIN:STANDARD
TZOFFSETFROM:-0400
TZOFFSETTO:-0500
TZNAME:EST
DTSTART:20231105T060000
END:STANDARD
END:VTIMEZONE
BEGIN:VEVENT
DTSTART;TZID=America/New_York:20230702T080000
DTEND;TZID=America/New_York:20230716T170000
DTSTAMP:20260421T105330
CREATED:20230103T151603Z
LAST-MODIFIED:20230103T151603Z
UID:10020758-1688284800-1689526800@newtonculture.org
SUMMARY:Amherst Early Music Festival
DESCRIPTION:We are thrilled to announce AEMF 2023! July 2-9\, and 9-16 at Muhlenberg College\, in Allentown\, PA. Register here! \nWeek 1 programs will include Central Program\, Baroque Academy\, and Historical Dance.\nWeek 2 programs will include Central Program\, Choral Workshop\, Ensemble Singing Intensive\, Lute Society of America\, and the New London Assembly. More info coming soon\, and will be posted at https://www.amherstearlymusic.org/festival
URL:https://newtonculture.org/event/amherst-early-music-festival/
LOCATION:MA
ORGANIZER;CN="Amherst Early Music":MAILTO:info@amherstearlymusic.org
END:VEVENT
BEGIN:VEVENT
DTSTART;TZID=America/New_York:20230713T113000
DTEND;TZID=America/New_York:20230713T143000
DTSTAMP:20260421T105330
CREATED:20230719T205057Z
LAST-MODIFIED:20230719T205057Z
UID:10020868-1689247800-1689258600@newtonculture.org
SUMMARY:The Allen Center Pop Ups
DESCRIPTION:Join your neighbors on the patio at The Allen Center for music\, lunch\, and a pop-up market. In partnership with All Over Newton\, these weekly happenings are part community gathering\, and part shopping\, with various local businesses to experience. Check out All Over Newton’s website for a full list of vendors and lunch ordering instructions.
URL:https://newtonculture.org/event/the-allen-center-pop-ups/2023-07-13/
LOCATION:MA
ATTACH;FMTTYPE=image/png:https://newtonculture.org/wp-content/uploads/2023/06/TAC-pop-ups-1.png
END:VEVENT
BEGIN:VEVENT
DTSTART;TZID=America/New_York:20230713T160000
DTEND;TZID=America/New_York:20230713T180000
DTSTAMP:20260421T105330
CREATED:20230728T152241Z
LAST-MODIFIED:20230728T152942Z
UID:10020880-1689264000-1689271200@newtonculture.org
SUMMARY:Scandinavian Cultural Center presents The New England Mosaic Society Exhibit
DESCRIPTION:THE NEW ENGLAND MOSAIC SOCIETY EXHIBIT\n\n\nThe New England Mosaic Society is holding an exhibit of mosaics created by the members participating in the 2023 and 2020 Collaborative Projects. The final mosaic is the result of a collaboration between two artists. One artist starts the mosaic\, the other artist finishes it. All the mosaics will be on display in our Nordic Hall. The exhibit will also include mosaics by Richard Youngstrom and Karen Edlund. This commemorative exhibit recognizes the major contributions these deceased artists made to NEMS and the larger mosaic community. \n\nOpening reception Sunday\, August 13th | 4-6pm | FREE with registration\n \n“The New England Mosaic Society (NEMS) is a volunteer organization that promotes and supports mosaics as a fine art. It began in 2015 when ten mosaicists came together at Mosaic Oasis in Arlington\, MA and started the discussion to form the society. Today\, its mission is to promote contemporary mosaic art while preserving traditional techniques. \n \nNEMS is committed to building a diverse and welcoming community of artists of all ability levels\, as well as lovers and supporters of mosaic art. Membership is open to all New England mosaic artists including amateurs\, professionals\, and mosaic suppliers. Members are encouraged to grow through education\, sharing of information\, and involvement in exhibitions and community events.”
URL:https://newtonculture.org/event/scandinavian-cultural-center-presents-the-new-england-mosaic-society-exhibit/
LOCATION:Scandinavian Cultural Center\, 206 Waltham St\, Newton\, MA\, 02465\, United States
CATEGORIES:Art
ATTACH;FMTTYPE=image/png:https://newtonculture.org/wp-content/uploads/2023/07/mosaic.png
END:VEVENT
END:VCALENDAR