BEGIN:VCALENDAR
VERSION:2.0
PRODID:-//Newton Cultural Alliance - ECPv6.13.2.1//NONSGML v1.0//EN
CALSCALE:GREGORIAN
METHOD:PUBLISH
X-ORIGINAL-URL:https://newtonculture.org
X-WR-CALDESC:Events for Newton Cultural Alliance
REFRESH-INTERVAL;VALUE=DURATION:PT1H
X-Robots-Tag:noindex
X-PUBLISHED-TTL:PT1H
BEGIN:VTIMEZONE
TZID:America/New_York
BEGIN:DAYLIGHT
TZOFFSETFROM:-0500
TZOFFSETTO:-0400
TZNAME:EDT
DTSTART:20230312T070000
END:DAYLIGHT
BEGIN:STANDARD
TZOFFSETFROM:-0400
TZOFFSETTO:-0500
TZNAME:EST
DTSTART:20231105T060000
END:STANDARD
END:VTIMEZONE
BEGIN:VEVENT
DTSTART;TZID=America/New_York:20230813T160000
DTEND;TZID=America/New_York:20230813T180000
DTSTAMP:20260421T093322
CREATED:20230731T213355Z
LAST-MODIFIED:20230731T213355Z
UID:10020893-1691942400-1691949600@newtonculture.org
SUMMARY:The SCC presents The New England Mosaic Society Exhibit
DESCRIPTION:COMING SOON: THE NEW ENGLAND MOSAIC SOCIETY EXHIBIT\n\n\nThe New England Mosaic Society is holding an exhibit of mosaics created by the members participating in the 2023 and 2020 Collaborative Projects. The final mosaic is the result of a collaboration between two artists. One artist starts the mosaic\, the other artist finishes it. All the mosaics will be on display in our Nordic Hall. The exhibit will also include mosaics by Richard Youngstrom and Karen Edlund. This commemorative exhibit recognizes the major contributions these deceased artists made to NEMS and the larger mosaic community. \n\nOpening reception Sunday\, August 13th | 4-6pm | FREE with registration\n \n“The New England Mosaic Society (NEMS) is a volunteer organization that promotes and supports mosaics as fine art. It began in 2015 when ten mosaicists came together at Mosaic Oasis in Arlington\, MA\, and started the discussion to form the society. Today\, its mission is to promote contemporary mosaic art while preserving traditional techniques. \n \nNEMS is committed to building a diverse and welcoming community of artists of all ability levels\, as well as lovers and supporters of mosaic art. Membership is open to all New England mosaic artists including amateurs\, professionals\, and mosaic suppliers. Members are encouraged to grow through education\, sharing of information\, and involvement in exhibitions and community events.”
URL:https://newtonculture.org/event/the-scc-presents-the-new-england-mosaic-society-exhibit/
LOCATION:Scandinavian Cultural Center\, 206 Waltham St\, Newton\, MA\, 02465\, United States
CATEGORIES:Visual Arts
ATTACH;FMTTYPE=image/png:https://newtonculture.org/wp-content/uploads/2023/07/ec551be5-1a0b-7ac3-b4b1-b8eeb9d71cce.png
END:VEVENT
END:VCALENDAR