BEGIN:VCALENDAR
VERSION:2.0
PRODID:-//Newton Cultural Alliance - ECPv6.13.2.1//NONSGML v1.0//EN
CALSCALE:GREGORIAN
METHOD:PUBLISH
X-WR-CALNAME:Newton Cultural Alliance
X-ORIGINAL-URL:https://newtonculture.org
X-WR-CALDESC:Events for Newton Cultural Alliance
REFRESH-INTERVAL;VALUE=DURATION:PT1H
X-Robots-Tag:noindex
X-PUBLISHED-TTL:PT1H
BEGIN:VTIMEZONE
TZID:America/New_York
BEGIN:DAYLIGHT
TZOFFSETFROM:-0500
TZOFFSETTO:-0400
TZNAME:EDT
DTSTART:20230312T070000
END:DAYLIGHT
BEGIN:STANDARD
TZOFFSETFROM:-0400
TZOFFSETTO:-0500
TZNAME:EST
DTSTART:20231105T060000
END:STANDARD
END:VTIMEZONE
BEGIN:VEVENT
DTSTART;TZID=America/New_York:20230819T180000
DTEND;TZID=America/New_York:20230819T220000
DTSTAMP:20260421T093132
CREATED:20230614T153630Z
LAST-MODIFIED:20230614T153630Z
UID:10019670-1692468000-1692482400@newtonculture.org
SUMMARY:The Hyde Community Center presents Summer in the Highlands
DESCRIPTION:The Hyde Community Center\n2023 Summer in the Highlands\nAll Movies and Concerts are free and take place on Hyde Bandstand at Hyde Playground.\nSponsor for all activities on Hyde Bandstand this summer: The Village Bank.\nIn partnership with the Newton Highlands Neighborhood Area Council.\nFor more information 617-201-7088 or director@hydecenter.org or www.hydecenter.org\nHyde on Twitter @hydehighlands. Hyde on Instagram hydehighlands.\nThe Hyde Community Center is a nonprofit corporation. \nFull Schedule available here.
URL:https://newtonculture.org/event/the-hyde-community-center-presents-summer-in-the-highlands/2023-08-19/
LOCATION:Hyde Community Center\, 90 Lincoln St\, Newton Highlands\, MA\, 02461\, United States
CATEGORIES:Community Event,Family Friendly,Film and Media,Free Event,Music
ATTACH;FMTTYPE=image/jpeg:https://newtonculture.org/wp-content/uploads/2023/06/4ab3022b-ee50-f75c-5de8-169828500020.jpg
ORGANIZER;CN="Hyde Community Center":MAILTO:director@hydecenter.org
END:VEVENT
BEGIN:VEVENT
DTSTART;TZID=America/New_York:20230819T190000
DTEND;TZID=America/New_York:20230819T203000
DTSTAMP:20260421T093132
CREATED:20230728T151821Z
LAST-MODIFIED:20230728T151821Z
UID:10020878-1692471600-1692477000@newtonculture.org
SUMMARY:Scandinavian Cultural Center presents The Aurora Ensemble Midnight Sun
DESCRIPTION:THE AURORA ENSEMBLE: MIDNIGHT SUN\n\nThe Aurora Ensemble brings a world premiere performance to our Nordic Hall titled Midnight Sun with Arias and Dance Music from Old Scandinavia! \nJoin the SCC for a magical and fantastical mid-summer themed program of Scandinavian music performed on historical instruments from the 16th\, 17th\, and 18th centuries. The program will feature a variety of composers and pieces from Sweden\, Finland\, Norway\, and Denmark. Most excitingly\, in collaboration with Bo Andersson of the Uppsala Universitet\, the Aurora Ensemble will perform the new world premieres of several stunning pieces housed in the Düben Collection of Manuscripts in Uppsala\, Sweden\, including instrumental dance pieces by Andras Düben\, a cantata by Swedish noblewoman Johanna Eleonora de la Gardie\, and the only surviving piece composed by Queen Ulrika Eleonora of Sweden. \nJoin SCC at Nordic Hall on August 19 to be a part of this historical event! \nSaturday\, August 19th\, 2023 | 7pm  | $20 suggested donation per person | register
URL:https://newtonculture.org/event/scandinavian-cultural-center-presents-the-aurora-ensemble-midnight-sun/
LOCATION:Scandinavian Cultural Center\, 206 Waltham St\, Newton\, MA\, 02465\, United States
CATEGORIES:Music
END:VEVENT
END:VCALENDAR